BEGIN:VCALENDAR
PRODID:-//Microsoft Corporation//Outlook 12.0 MIMEDIR//EN
VERSION:2.0
METHOD:PUBLISH
X-MS-OLK-FORCEINSPECTOROPEN:TRUE
BEGIN:VEVENT
CLASS:PUBLIC
CREATED:20260419T173301Z
DESCRIPTION:La trazabilidad en tiempo real es más que una necesidad: es una ventaja competitiva.\nEn el canal Logística 5.0, nos complace presentar a Xymbot, una empresa que está transformando la gestión logística mediante soluciones avanzadas de trazabilidad. Su plataforma Xymview integra tecnologías como RFID, BLE y UWB para ofrecer visibilidad total de activos en tiempo real, desde productos hasta personal.\nEsta colaboración con Solution Logistics refuerza nuestro compromiso con la innovación y la eficiencia en la cadena de suministro.\nJuntos, estamos facilitando la transición hacia una logística más inteligente y conectada.\n¿Estás listo para dar el siguiente paso hacia la transformación digital en tu operación logística?\n
DTSTART:20250702T160000
DTEND:20250702T170000
DTSTAMP:20260419T173301Z
LOCATION:Online
PRIORITY:5
SEQUENCE:0
SUMMARY;LANGUAGE=es-es:Tecnowebinars.com - :: Trazabilidad y Gestión de Activos en tiempo real con Xymbot
TRANSP:OPAQUE
UID:81681d495294ddb6f0e16afe836cbf16 Tecnowebinars.com
X-MICROSOFT-CDO-BUSYSTATUS:BUSY
X-MICROSOFT-CDO-IMPORTANCE:1
X-MICROSOFT-DISALLOW-COUNTER:FALSE
X-MS-OLK-ALLOWEXTERNCHECK:TRUE
X-MS-OLK-AUTOFILLLOCATION:FALSE
X-MS-OLK-CONFTYPE:0
BEGIN:VALARM
TRIGGER:-PT1440M
ACTION:DISPLAY
DESCRIPTION:Reminder
END:VALARM
END:VEVENT
END:VCALENDAR
