BEGIN:VCALENDAR
PRODID:-//Microsoft Corporation//Outlook 12.0 MIMEDIR//EN
VERSION:2.0
METHOD:PUBLISH
X-MS-OLK-FORCEINSPECTOROPEN:TRUE
BEGIN:VEVENT
CLASS:PUBLIC
CREATED:20260419T173302Z
DESCRIPTION:En esta charla abordaremos el concepto de "Seguridad Psicológica" desde sus principios y complementando con una guía de autoanálisis para identificar en qué nivel se encuentran nuestros equipos y organizaciones.\n \nLa Seguridad Psicológica no es algo blanco o negro, no es algo binario (que se tiene o no se tiene), sino que hay una escala de grises en el medio, por lo cual es fundamental identificar en qué nivel nos encontramos para avanzar paso a paso, cocreando una cultura de bienestar, logro de objetivos de manera sostenible y, eventualmente, de innovación.\n
DTSTART:20250627T160000
DTEND:20250627T170000
DTSTAMP:20260419T173302Z
LOCATION:Online
PRIORITY:5
SEQUENCE:0
SUMMARY;LANGUAGE=es-es:Tecnowebinars.com - :: Seguridad Psicológica: Pieza clave para una cultura de bienestar e innovación
TRANSP:OPAQUE
UID:74461c23166732a5633409853c9b8c00 Tecnowebinars.com
X-MICROSOFT-CDO-BUSYSTATUS:BUSY
X-MICROSOFT-CDO-IMPORTANCE:1
X-MICROSOFT-DISALLOW-COUNTER:FALSE
X-MS-OLK-ALLOWEXTERNCHECK:TRUE
X-MS-OLK-AUTOFILLLOCATION:FALSE
X-MS-OLK-CONFTYPE:0
BEGIN:VALARM
TRIGGER:-PT1440M
ACTION:DISPLAY
DESCRIPTION:Reminder
END:VALARM
END:VEVENT
END:VCALENDAR
