BEGIN:VCALENDAR
PRODID:-//Microsoft Corporation//Outlook 12.0 MIMEDIR//EN
VERSION:2.0
METHOD:PUBLISH
X-MS-OLK-FORCEINSPECTOROPEN:TRUE
BEGIN:VEVENT
CLASS:PUBLIC
CREATED:20260419T171112Z
DESCRIPTION:La Cadena de Suministro es un sistema integrado que involucra a todas las partes y procesos necesarios para que un producto o servicio llegue desde la obtención de materias primas hasta la entrega final al consumidor.\n \nEsto incluye la planificación, gestión y coordinación de la producción, almacenaje, transporte y distribución. Una cadena de suministro eficiente permite a las empresas reducir costos, cumplir plazos de entrega, mejorar la calidad del producto y, finalmente, aumentar la satisfacción del cliente.\n \nUna cadena de suministro ágil, tecnológica y centrada en el cliente se convierte en un elemento clave de la propuesta de valor de tu empresa.\n \n¿Cómo volverla una VENTAJA COMPETITIVA?\n \nÚnete nuestro seminario los días 18 y 25 de junio y te lo explicaremos.\n
DTSTART:20250625T170000
DTEND:20250625T180000
DTSTAMP:20260419T171112Z
LOCATION:Online
PRIORITY:5
SEQUENCE:0
SUMMARY;LANGUAGE=es-es:Tecnowebinars.com - :: Transformando la Cadena de Suministro en una ventaja competitiva II
TRANSP:OPAQUE
UID:707fa91b20efe0ac098c8b71fb23e075 Tecnowebinars.com
X-MICROSOFT-CDO-BUSYSTATUS:BUSY
X-MICROSOFT-CDO-IMPORTANCE:1
X-MICROSOFT-DISALLOW-COUNTER:FALSE
X-MS-OLK-ALLOWEXTERNCHECK:TRUE
X-MS-OLK-AUTOFILLLOCATION:FALSE
X-MS-OLK-CONFTYPE:0
BEGIN:VALARM
TRIGGER:-PT1440M
ACTION:DISPLAY
DESCRIPTION:Reminder
END:VALARM
END:VEVENT
END:VCALENDAR
