BEGIN:VCALENDAR
PRODID:-//Microsoft Corporation//Outlook 12.0 MIMEDIR//EN
VERSION:2.0
METHOD:PUBLISH
X-MS-OLK-FORCEINSPECTOROPEN:TRUE
BEGIN:VEVENT
CLASS:PUBLIC
CREATED:20260419T171110Z
DESCRIPTION: La inteligencia artificial está revolucionando fundamentalmente el proceso de desarrollo de software, introduciendo herramientas y técnicas que mejoran la productividad, la precisión y la innovación de maneras que eran impensables hace apenas unos años.\nEstamos presenciando una transformación donde la IA generativa y los modelos de lenguaje grandes agilizan todo el ciclo de desarrollo, automatizando pasos clave desde la generación de ideas y recopilación de requisitos hasta la programación y las pruebas. Esta colaboración entre desarrolladores humanos e IA no solo acelera el proceso de desarrollo, sino que mejora dramáticamente la calidad del producto final, permitiendo que los profesionales se enfoquen en tareas más complejas y creativas mientras la IA maneja el código repetitivo.\nLes voy a demostrar el poder transformador de esta tecnología a través de Syncfusion Cody, una herramienta que ejemplifica perfectamente esta revolución. Cody no es simplemente un asistente, es una extensión de nuestro cerebro de desarrollo que entiende codebases masivos, genera código de producción en segundos, y ha demostrado su efectividad al generar más del 30% del código interno de Syncfusion.\nCon sus cuatro modos poderosos y capacidades para trabajar con cualquier modelo de IA, Cody representa el futuro del desarrollo empresarial: más rápido, más inteligente, y completamente accesible desde su nivel gratuito hasta implementaciones empresariales. Prepárense para ver cómo esta tecnología no solo cambia la forma en que codificamos, sino que redefine completamente lo que es posible en el desarrollo de aplicaciones.\n
DTSTART:20250618T160000
DTEND:20250618T170000
DTSTAMP:20260419T171110Z
LOCATION:Online
PRIORITY:5
SEQUENCE:0
SUMMARY;LANGUAGE=es-es:Tecnowebinars.com - :: Desarrollo de aplicaciones con IA
TRANSP:OPAQUE
UID:e7a8c66c6ce90c3d55e77975ba9b6132 Tecnowebinars.com
X-MICROSOFT-CDO-BUSYSTATUS:BUSY
X-MICROSOFT-CDO-IMPORTANCE:1
X-MICROSOFT-DISALLOW-COUNTER:FALSE
X-MS-OLK-ALLOWEXTERNCHECK:TRUE
X-MS-OLK-AUTOFILLLOCATION:FALSE
X-MS-OLK-CONFTYPE:0
BEGIN:VALARM
TRIGGER:-PT1440M
ACTION:DISPLAY
DESCRIPTION:Reminder
END:VALARM
END:VEVENT
END:VCALENDAR
