BEGIN:VCALENDAR
PRODID:-//Microsoft Corporation//Outlook 12.0 MIMEDIR//EN
VERSION:2.0
METHOD:PUBLISH
X-MS-OLK-FORCEINSPECTOROPEN:TRUE
BEGIN:VEVENT
CLASS:PUBLIC
CREATED:20260419T172415Z
DESCRIPTION: En nuestro próximo webinar de Logística 5.0, nos unimos a Óvtimo, especialistas en estrategia de transporte con más de 20 años de experiencia, para presentar cómo su Método VADEX® utiliza inteligencia tecnológica para anticipar y resolver imprevistos antes de que impacten tu operación\n \nDescubre cómo su algoritmo analiza 23 factores críticos (costes, rutas, sostenibilidad, trazabilidad…) para garantizar entregas optimizadas, reducir costes y mejorar la fiabilidad, desde origen hasta destino.\n \nCaso de uso real: Óvtimo\n \nMotivos para asistir\n \nConocerás un sistema predictivo avanzado sin cambiar tu TMS o ERP. Verás un caso con métricas reales de ahorro y eficiencia. Participarás en una sesión exclusiva, con contenido premium reservado para miembros.\n \nTendrás acceso a vídeo on-demand, junto a recursos técnicos sólo disponibles tras el registro.\n
DTSTART:20250623T160000
DTEND:20250623T170000
DTSTAMP:20260419T172415Z
LOCATION:Online
PRIORITY:5
SEQUENCE:0
SUMMARY;LANGUAGE=es-es:Tecnowebinars.com - :: Transporte Predictivo 5.0: Anticipa y optimiza con el Método VADEX de Ovtimo
TRANSP:OPAQUE
UID:66d6d6e100b3420c74c49846024780cc Tecnowebinars.com
X-MICROSOFT-CDO-BUSYSTATUS:BUSY
X-MICROSOFT-CDO-IMPORTANCE:1
X-MICROSOFT-DISALLOW-COUNTER:FALSE
X-MS-OLK-ALLOWEXTERNCHECK:TRUE
X-MS-OLK-AUTOFILLLOCATION:FALSE
X-MS-OLK-CONFTYPE:0
BEGIN:VALARM
TRIGGER:-PT1440M
ACTION:DISPLAY
DESCRIPTION:Reminder
END:VALARM
END:VEVENT
END:VCALENDAR
