BEGIN:VCALENDAR
PRODID:-//Microsoft Corporation//Outlook 12.0 MIMEDIR//EN
VERSION:2.0
METHOD:PUBLISH
X-MS-OLK-FORCEINSPECTOROPEN:TRUE
BEGIN:VEVENT
CLASS:PUBLIC
CREATED:20260419T172359Z
DESCRIPTION: Keynote sobre cómo el visual thinking puede ayudar a equipos a mejorar la colaboración, la escucha profunda, y activar la inteligencia colectiva.\n \nExperimentaremos en primera persona cómo las notas visuales pueden ayudarnos a traer claridad, foco y visión.\n
DTSTART:20250609T160000
DTEND:20250609T170000
DTSTAMP:20260419T172359Z
LOCATION:Online
PRIORITY:5
SEQUENCE:0
SUMMARY;LANGUAGE=es-es:Tecnowebinars.com - :: Visual Thinking para encender el cambio
TRANSP:OPAQUE
UID:2e3586ce8e252cd90f6e35491b8a4504 Tecnowebinars.com
X-MICROSOFT-CDO-BUSYSTATUS:BUSY
X-MICROSOFT-CDO-IMPORTANCE:1
X-MICROSOFT-DISALLOW-COUNTER:FALSE
X-MS-OLK-ALLOWEXTERNCHECK:TRUE
X-MS-OLK-AUTOFILLLOCATION:FALSE
X-MS-OLK-CONFTYPE:0
BEGIN:VALARM
TRIGGER:-PT1440M
ACTION:DISPLAY
DESCRIPTION:Reminder
END:VALARM
END:VEVENT
END:VCALENDAR
