BEGIN:VCALENDAR
PRODID:-//Microsoft Corporation//Outlook 12.0 MIMEDIR//EN
VERSION:2.0
METHOD:PUBLISH
X-MS-OLK-FORCEINSPECTOROPEN:TRUE
BEGIN:VEVENT
CLASS:PUBLIC
CREATED:20260419T184330Z
DESCRIPTION:Objetivos de la Presentación:\nNuestra presentación tiene como objetivo principal demostrar cómo PeopleWorks GPT democratiza el acceso a datos para usuarios de todos los niveles técnicos, desde aquellos con conocimientos básicos que buscan respuestas simples hasta analistas avanzados que requieren consultas complejas, todos encontrando valor inmediato en nuestra plataforma.\n \nBuscaremos evidenciar nuestro compromiso inquebrantable con la seguridad empresarial, destacando cómo nuestra metodología del "Constructor de Ecuaciones" garantiza que los datos nunca abandonen el entorno seguro de la organización, procesando únicamente patrones abstractos mediante IA mientras mantiene soberanía completa sobre la información confidencial.\n \nDemostraremos la potencia técnica de nuestro motor de consultas mediante la generación automática de consultas SQL optimizadas en tiempo real, mostrando integraciones en vivo con bases de datos SQL incluyendo SQL Server, MySQL y PostgreSQL. \n \nFinalmente, aspiramos a transformar la percepción de los asistentes sobre el análisis de datos, eliminando la falsa dicotomía entre accesibilidad y seguridad, y demostrando que es posible democratizar el acceso a insights empresariales sin comprometer la protección de datos críticos.\n
DTSTART:20250717T140000
DTEND:20250717T130000
DTSTAMP:20260419T184330Z
LOCATION:Online
PRIORITY:5
SEQUENCE:0
SUMMARY;LANGUAGE=es-es:Tecnowebinars.com - :: GPT IA personalizado para la PYME
TRANSP:OPAQUE
UID:3f954d185b903319513d838a7231d361 Tecnowebinars.com
X-MICROSOFT-CDO-BUSYSTATUS:BUSY
X-MICROSOFT-CDO-IMPORTANCE:1
X-MICROSOFT-DISALLOW-COUNTER:FALSE
X-MS-OLK-ALLOWEXTERNCHECK:TRUE
X-MS-OLK-AUTOFILLLOCATION:FALSE
X-MS-OLK-CONFTYPE:0
BEGIN:VALARM
TRIGGER:-PT1440M
ACTION:DISPLAY
DESCRIPTION:Reminder
END:VALARM
END:VEVENT
END:VCALENDAR
