BEGIN:VCALENDAR
PRODID:-//Microsoft Corporation//Outlook 12.0 MIMEDIR//EN
VERSION:2.0
METHOD:PUBLISH
X-MS-OLK-FORCEINSPECTOROPEN:TRUE
BEGIN:VEVENT
CLASS:PUBLIC
CREATED:20260419T155205Z
DESCRIPTION:La AEAT explica la Ley Antifraude\nParticipa Javier Hurtado, uno de los creadores de la Ley Antifraude\nReunimos en este webinar a dos expertos de primer orden en la Ley Antifraude, que viene a marcar un antes y un después en el software de gestión contable en nuestro país.\nContaremos con la participación de Javier Hurtado, Inspector de Hacienda en la Agencia Tributaria y figura clave en el diseño del Artículo 201 bis de la Ley 11/2021, de 9 de julio, que ha transformado el marco legal del software de facturación y gestión empresarial en la lucha contra el fraude fiscal.\nJunto a él estará Luis Vilanova Blanco, perito judicial informático y fundador de www.leyantifraude.com y www.leycreaycrece.com , auditor responsable de más de 300 empresas de desarrollo supervisadas y asesoradas en el cumplimiento de la ley antifraude y otras leyes relacionadas con la AEAT.\nSu experiencia aporta una mirada crítica, práctica y aplicada desde el terreno, especialmente en entornos ERP y soluciones SaaS.\nEn este webinar abordaremos, desde una perspectiva legal, procedimental y operativa, los aspectos clave para entender y aplicar la ley antifraude de software. No nos centraremos en aspectos puramente técnicos, sino en cómo interpretar correctamente el marco normativo, prepararse para inspecciones y cumplir con los requisitos legales exigibles a desarrolladores y empresas.\nAlgunos temas que trataremos:\n•Origen, objetivos y alcance del artículo 201 bis: visión desde dentro de la Agencia Tributaria.\n•Términos fundamentales: inalterabilidad, trazabilidad, conservación y verificación.\n•Cómo prepararse para una inspección desde el punto de vista del software y de los procedimientos.\n•Conexiones con la Ley Crea y Crece y la factura electrónica obligatoria.\n•Casos prácticos, criterios de supervisión y errores frecuentes en auditorías.\n•Futuro de la normativa antifraude: ¿qué viene después del Veri*factu?\nEste webinar está dirigido a desarrolladores de software, integradores ERP, responsables legales y fiscales, asesores tecnológicos y empresas usuarias que quieran comprender de forma clara y directa las obligaciones actuales y los riesgos reales ante una inspección.\nUna oportunidad única para conocer el marco legal de la mano de uno de sus creadores y contrastarlo con la experiencia en campo de uno de los auditores más activos en España..\n
DTSTART:20250527T130000
DTEND:20250527T140000
DTSTAMP:20260419T155205Z
LOCATION:Online
PRIORITY:5
SEQUENCE:0
SUMMARY;LANGUAGE=es-es:Tecnowebinars.com - :: Presente y futuro de la Ley Antifraude
TRANSP:OPAQUE
UID:a3019c6e7fd05b934db7f9c320f969c8 Tecnowebinars.com
X-MICROSOFT-CDO-BUSYSTATUS:BUSY
X-MICROSOFT-CDO-IMPORTANCE:1
X-MICROSOFT-DISALLOW-COUNTER:FALSE
X-MS-OLK-ALLOWEXTERNCHECK:TRUE
X-MS-OLK-AUTOFILLLOCATION:FALSE
X-MS-OLK-CONFTYPE:0
BEGIN:VALARM
TRIGGER:-PT1440M
ACTION:DISPLAY
DESCRIPTION:Reminder
END:VALARM
END:VEVENT
END:VCALENDAR
