BEGIN:VCALENDAR
PRODID:-//Microsoft Corporation//Outlook 12.0 MIMEDIR//EN
VERSION:2.0
METHOD:PUBLISH
X-MS-OLK-FORCEINSPECTOROPEN:TRUE
BEGIN:VEVENT
CLASS:PUBLIC
CREATED:20260419T155221Z
DESCRIPTION:¿Sientes que todos hacen de todo, pero nadie tiene claro su rol?\n \n¿Sigues apagando incendios en lugar de hacer crecer tu negocio?\n \nEs hora de estructurar tu empresa sin matar su flexibilidad y convertirte en el líder que tu equipo NECESITA. \n \nIdeas frescas para emprendedores en expansión:\n \nOrdena roles, procesos y responsabilidades sin burocracia.\nAprende a delegar sin perder el control.\nDomina el liderazgo ágil y evita los errores que frenan tu crecimiento.\n
DTSTART:20250506T160000
DTEND:20250506T170000
DTSTAMP:20260419T155221Z
LOCATION:Online
PRIORITY:5
SEQUENCE:0
SUMMARY;LANGUAGE=es-es:Tecnowebinars.com - :: De jefe improvisado a líder respetado ... sin perder el alma de tu startup
TRANSP:OPAQUE
UID:9004a802663d78eea467357d24658e72 Tecnowebinars.com
X-MICROSOFT-CDO-BUSYSTATUS:BUSY
X-MICROSOFT-CDO-IMPORTANCE:1
X-MICROSOFT-DISALLOW-COUNTER:FALSE
X-MS-OLK-ALLOWEXTERNCHECK:TRUE
X-MS-OLK-AUTOFILLLOCATION:FALSE
X-MS-OLK-CONFTYPE:0
BEGIN:VALARM
TRIGGER:-PT1440M
ACTION:DISPLAY
DESCRIPTION:Reminder
END:VALARM
END:VEVENT
END:VCALENDAR
