BEGIN:VCALENDAR
PRODID:-//Microsoft Corporation//Outlook 12.0 MIMEDIR//EN
VERSION:2.0
METHOD:PUBLISH
X-MS-OLK-FORCEINSPECTOROPEN:TRUE
BEGIN:VEVENT
CLASS:PUBLIC
CREATED:20260419T155205Z
DESCRIPTION:En un mundo donde el aprendizaje debe ser tan ágil como los procesos que lo sustentan, la inteligencia artificial generativa (IAg) irrumpe como un catalizador disruptivo para la formación corporativa.\n \nEsta charla explora cómo la IAg puede integrarse en entornos de formación ágiles para crear experiencias más dinámicas, personalizadas y efectivas, alineadas con las necesidades reales de los equipos y las organizaciones.\n \nDesde la generación de contenidos en tiempo real hasta el diseño de simulaciones adaptativas, repasaremos casos de uso aplicables tanto en formaciones presenciales como virtuales, especialmente en metodologías ágiles como Scrum, Lean o ITIL.\n \nTambién abordaremos cómo la IA puede actuar como "asistente de coaching" para formadores, mejorando la retroalimentación y el acompañamiento individualizado.\n
DTSTART:20250515T160000
DTEND:20250515T170000
DTSTAMP:20260419T155205Z
LOCATION:Online
PRIORITY:5
SEQUENCE:0
SUMMARY;LANGUAGE=es-es:Tecnowebinars.com - :: IA generativa y agilidad: aliados para transformar la formación corporativa
TRANSP:OPAQUE
UID:2278fb54c0897588bd8fab3573c45ede Tecnowebinars.com
X-MICROSOFT-CDO-BUSYSTATUS:BUSY
X-MICROSOFT-CDO-IMPORTANCE:1
X-MICROSOFT-DISALLOW-COUNTER:FALSE
X-MS-OLK-ALLOWEXTERNCHECK:TRUE
X-MS-OLK-AUTOFILLLOCATION:FALSE
X-MS-OLK-CONFTYPE:0
BEGIN:VALARM
TRIGGER:-PT1440M
ACTION:DISPLAY
DESCRIPTION:Reminder
END:VALARM
END:VEVENT
END:VCALENDAR
