BEGIN:VCALENDAR
PRODID:-//Microsoft Corporation//Outlook 12.0 MIMEDIR//EN
VERSION:2.0
METHOD:PUBLISH
X-MS-OLK-FORCEINSPECTOROPEN:TRUE
BEGIN:VEVENT
CLASS:PUBLIC
CREATED:20260419T155205Z
DESCRIPTION: En un entorno cada vez más digitalizado, donde las relaciones electrónicas con clientes y ciudadanos requieren garantías plenas de identidad, la videoidentificación remota se ha convertido en una herramienta clave. Sin embargo, no todas las soluciones de videoidentificación son equivalentes ni cumplen los exigentes requisitos legales y técnicos impuestos por los organismos reguladores.\n \nEn este webinar abordaremos los criterios técnicos, jurídicos y de protección de datos que deben cumplir las herramientas de videoidentificación para ser consideradas seguras y válidas, tanto en el sector público como en el sector privado regulado.\n \nAnalizaremos tres marcos normativos fundamentales:\n \nPor un lado, los requisitos del Esquema Nacional de Seguridad (ENS) y las guías CCN-STIC de la familia dedicada a herramientas de videoidentificación, que establecen los controles de seguridad exigidos a las Administraciones Públicas y sus proveedores tecnológicos.\n \nEn segundo lugar, los criterios establecidos por SEPBLAC (Servicio Ejecutivo de la Comisión de Prevención del Blanqueo de Capitales), que regulan el uso de la videoidentificación en procesos de alta de clientes en el ámbito financiero y sujetos obligados por la Ley 10/2010.Y, de forma transversal, abordaremos también las implicaciones del Reglamento General de Protección de Datos (RGPD) en este tipo de tratamientos: bases jurídicas válidas para la recogida de vídeo y biometría, conservación de evidencias, derechos del interesado, medidas de minimización y evaluación de impacto (EIPD) en procesos de identificación remota.\n \nDurante la sesión explicaremos las similitudes y diferencias entre estos marcos regulatorios, las exigencias técnicas clave (como grabación, integridad, trazabilidad, revisión humana, uso de biometría, protección frente a suplantación...), y ofreceremos ejemplos prácticos sobre cómo garantizar el cumplimiento normativo en entornos reales.\n \nEste webinar está dirigido a:\n \nResponsables de cumplimiento, protección de datos y ciberseguridad.\n \nEquipos técnicos que integran soluciones de identificación remota.\n \nProveedores de software con soluciones en procesos de onboarding, firma electrónica o acceso seguro.\n \nOrganismos públicos y entidades colaboradoras.\n \nProfesionales del ámbito legal, tecnológico y de auditoría.\n
DTSTART:20250522T180000
DTEND:20250522T190000
DTSTAMP:20260419T155205Z
LOCATION:Online
PRIORITY:5
SEQUENCE:0
SUMMARY;LANGUAGE=es-es:Tecnowebinars.com - :: Videoidentificación segura: cumplimiento normativo según CCN-STIC, SEPBLAC y RGPD
TRANSP:OPAQUE
UID:28c02d5e619fffb715c75d5372aadaa9 Tecnowebinars.com
X-MICROSOFT-CDO-BUSYSTATUS:BUSY
X-MICROSOFT-CDO-IMPORTANCE:1
X-MICROSOFT-DISALLOW-COUNTER:FALSE
X-MS-OLK-ALLOWEXTERNCHECK:TRUE
X-MS-OLK-AUTOFILLLOCATION:FALSE
X-MS-OLK-CONFTYPE:0
BEGIN:VALARM
TRIGGER:-PT1440M
ACTION:DISPLAY
DESCRIPTION:Reminder
END:VALARM
END:VEVENT
END:VCALENDAR
