BEGIN:VCALENDAR
PRODID:-//Microsoft Corporation//Outlook 12.0 MIMEDIR//EN
VERSION:2.0
METHOD:PUBLISH
X-MS-OLK-FORCEINSPECTOROPEN:TRUE
BEGIN:VEVENT
CLASS:PUBLIC
CREATED:20260419T155206Z
DESCRIPTION:En esta ponencia exploraremos cómo la inteligencia artificial (IA) está transformando los roles y responsabilidades dentro de los equipos Scrum y como afecta en el día a día de Scrum Masters, Product Owners y Equipos de Desarrollo.\n \nHe participado como ponente en eventos y conferencias de PMI, Cámaras de Comercio y Escuelas de Negocio, así como en anteriores ediciones de Agile Disruptivo.\n
DTSTART:20250513T160000
DTEND:20250513T170000
DTSTAMP:20260419T155206Z
LOCATION:Online
PRIORITY:5
SEQUENCE:0
SUMMARY;LANGUAGE=es-es:Tecnowebinars.com - :: El Impacto de la IA en los Roles de Scrum
TRANSP:OPAQUE
UID:e41d8663e7cb36cc808ab4d60b5b353b Tecnowebinars.com
X-MICROSOFT-CDO-BUSYSTATUS:BUSY
X-MICROSOFT-CDO-IMPORTANCE:1
X-MICROSOFT-DISALLOW-COUNTER:FALSE
X-MS-OLK-ALLOWEXTERNCHECK:TRUE
X-MS-OLK-AUTOFILLLOCATION:FALSE
X-MS-OLK-CONFTYPE:0
BEGIN:VALARM
TRIGGER:-PT1440M
ACTION:DISPLAY
DESCRIPTION:Reminder
END:VALARM
END:VEVENT
END:VCALENDAR
