BEGIN:VCALENDAR
PRODID:-//Microsoft Corporation//Outlook 12.0 MIMEDIR//EN
VERSION:2.0
METHOD:PUBLISH
X-MS-OLK-FORCEINSPECTOROPEN:TRUE
BEGIN:VEVENT
CLASS:PUBLIC
CREATED:20260419T155220Z
DESCRIPTION: Aprenda a construir un ecosistema digital integrado que vincule todas las áreas de su empresa, optimizando procesos y maximizando la eficiencia operativa.\n \nConecte aplicaciones y centralice el control para obtener una visión 360º que impulse el rendimiento de las operaciones.\n
DTSTART:20250527T160000
DTEND:20250527T170000
DTSTAMP:20260419T155220Z
LOCATION:Online
PRIORITY:5
SEQUENCE:0
SUMMARY;LANGUAGE=es-es:Tecnowebinars.com - :: Control total desde un solo lugar: el impacto de un ecosistema digital integrado
TRANSP:OPAQUE
UID:7a39a7a13ab1c153c5cc3fbb01ee532e Tecnowebinars.com
X-MICROSOFT-CDO-BUSYSTATUS:BUSY
X-MICROSOFT-CDO-IMPORTANCE:1
X-MICROSOFT-DISALLOW-COUNTER:FALSE
X-MS-OLK-ALLOWEXTERNCHECK:TRUE
X-MS-OLK-AUTOFILLLOCATION:FALSE
X-MS-OLK-CONFTYPE:0
BEGIN:VALARM
TRIGGER:-PT1440M
ACTION:DISPLAY
DESCRIPTION:Reminder
END:VALARM
END:VEVENT
END:VCALENDAR
