BEGIN:VCALENDAR
PRODID:-//Microsoft Corporation//Outlook 12.0 MIMEDIR//EN
VERSION:2.0
METHOD:PUBLISH
X-MS-OLK-FORCEINSPECTOROPEN:TRUE
BEGIN:VEVENT
CLASS:PUBLIC
CREATED:20260419T155043Z
DESCRIPTION:¿SAFe funciona? ¿Es solo burocracia con marketing? ¿O quizás es la solución mágica que todos buscan?\nEn esta charla-taller (sí, tú también participarás), te invito a un viaje sin filtros por más de 10 años de experiencias reales aplicando SAFe en todo tipo de organizaciones: grandes, pequeñas, caóticas, tradicionales, innovadoras… y alguna que otra imposible.\n \nDescubriremos juntos los mitos, las verdades incómodas y, sobre todo, los retos (y trucos de supervivencia) que me he encontrado siendo un SPC muy poco dogmático.\n \nSi quieres escuchar lo que no sale en los cursos oficiales, entender cuándo SAFe ayuda… y cuándo es mejor salir corriendo, este es tu sitio.\n \nAdvertencia: Puede que salgas con más preguntas que respuestas… pero con los ojos bien abiertos.\n
DTSTART:20250520T160000
DTEND:20250520T170000
DTSTAMP:20260419T155043Z
LOCATION:Online
PRIORITY:5
SEQUENCE:0
SUMMARY;LANGUAGE=es-es:Tecnowebinars.com - :: Taller: 10 años aprendiendo (y sobreviviendo) con SAFe Lo que nadie te cuenta... hasta ahora.
TRANSP:OPAQUE
UID:a9c1b3d09117999befbf752da1a3f910 Tecnowebinars.com
X-MICROSOFT-CDO-BUSYSTATUS:BUSY
X-MICROSOFT-CDO-IMPORTANCE:1
X-MICROSOFT-DISALLOW-COUNTER:FALSE
X-MS-OLK-ALLOWEXTERNCHECK:TRUE
X-MS-OLK-AUTOFILLLOCATION:FALSE
X-MS-OLK-CONFTYPE:0
BEGIN:VALARM
TRIGGER:-PT1440M
ACTION:DISPLAY
DESCRIPTION:Reminder
END:VALARM
END:VEVENT
END:VCALENDAR
