BEGIN:VCALENDAR
PRODID:-//Microsoft Corporation//Outlook 12.0 MIMEDIR//EN
VERSION:2.0
METHOD:PUBLISH
X-MS-OLK-FORCEINSPECTOROPEN:TRUE
BEGIN:VEVENT
CLASS:PUBLIC
CREATED:20260419T172415Z
DESCRIPTION: Explore nuestro módulo especializado para el control individual de jamones y paletas mediante precintos identificativos. Cumpla con la Norma del Ibérico, IGP, DOP y ETG del jamón serrano, garantizando calidad y trazabilidad en cada pieza.\n
DTSTART:20250619T110000
DTEND:20250619T120000
DTSTAMP:20260419T172415Z
LOCATION:Online
PRIORITY:5
SEQUENCE:0
SUMMARY;LANGUAGE=es-es:Tecnowebinars.com - :: Jamones y paletas: Trazabilidad pieza a pieza
TRANSP:OPAQUE
UID:bf9e01d0e8b97ad8b7d4c91bf9445048 Tecnowebinars.com
X-MICROSOFT-CDO-BUSYSTATUS:BUSY
X-MICROSOFT-CDO-IMPORTANCE:1
X-MICROSOFT-DISALLOW-COUNTER:FALSE
X-MS-OLK-ALLOWEXTERNCHECK:TRUE
X-MS-OLK-AUTOFILLLOCATION:FALSE
X-MS-OLK-CONFTYPE:0
BEGIN:VALARM
TRIGGER:-PT1440M
ACTION:DISPLAY
DESCRIPTION:Reminder
END:VALARM
END:VEVENT
END:VCALENDAR
