BEGIN:VCALENDAR
PRODID:-//Microsoft Corporation//Outlook 12.0 MIMEDIR//EN
VERSION:2.0
METHOD:PUBLISH
X-MS-OLK-FORCEINSPECTOROPEN:TRUE
BEGIN:VEVENT
CLASS:PUBLIC
CREATED:20260419T184335Z
DESCRIPTION:Elevando la automatización al siguiente nivel, esta sesión se adentra en la sinergia estratégica entre la Gestión de Procesos de Negocio (BPM), la Automatización Robótica de Procesos (RPA) y la Inteligencia Artificial (IA). Partiendo de una comprensión fundamental de RPA e IA, exploraremos cómo el BPM proporciona el marco esencial para analizar, modelar, optimizar y gobernar los procesos de negocio de extremo a extremo antes y durante la implementación de soluciones de automatización inteligente.\nDescubriremos cómo identificar los procesos correctos para la automatización, cómo rediseñarlos para máxima eficiencia con principios BPM, y luego cómo aplicar RPA para ejecutar las tareas repetitivas y la IA para añadir capacidades cognitivas (como la toma de decisiones, el procesamiento de lenguaje natural o la visión por computadora). A través de casos prácticos y ejemplos, veremos cómo esta triple combinación permite no solo automatizar tareas, sino transformar y optimizar flujos de trabajo completos, logrando una mayor agilidad, eficiencia y valor para el negocio. Abordaremos también cómo herramientas como las de Microsoft Power Platform pueden facilitar esta integración holística.\n
DTSTART:20250709T140000
DTEND:20250709T150000
DTSTAMP:20260419T184335Z
LOCATION:Online
PRIORITY:5
SEQUENCE:0
SUMMARY;LANGUAGE=es-es:Tecnowebinars.com - :: RPA+IA con Microsoft Power Platform II
TRANSP:OPAQUE
UID:fd1e85412f183929d70e01353f4aff72 Tecnowebinars.com
X-MICROSOFT-CDO-BUSYSTATUS:BUSY
X-MICROSOFT-CDO-IMPORTANCE:1
X-MICROSOFT-DISALLOW-COUNTER:FALSE
X-MS-OLK-ALLOWEXTERNCHECK:TRUE
X-MS-OLK-AUTOFILLLOCATION:FALSE
X-MS-OLK-CONFTYPE:0
BEGIN:VALARM
TRIGGER:-PT1440M
ACTION:DISPLAY
DESCRIPTION:Reminder
END:VALARM
END:VEVENT
END:VCALENDAR
