BEGIN:VCALENDAR
PRODID:-//Microsoft Corporation//Outlook 12.0 MIMEDIR//EN
VERSION:2.0
METHOD:PUBLISH
X-MS-OLK-FORCEINSPECTOROPEN:TRUE
BEGIN:VEVENT
CLASS:PUBLIC
CREATED:20260419T155220Z
DESCRIPTION:Conozca cómo Galper_Industrial integra la recepción, producción, trazabilidad, calidad, logística y ventas en una sola plataforma. Diseñado para cumplir con las normativas específicas de cada sector, este sistema es la clave para una gestión eficiente y sin complicaciones.\n
DTSTART:20250508T110000
DTEND:20250508T120000
DTSTAMP:20260419T155220Z
LOCATION:Online
PRIORITY:5
SEQUENCE:0
SUMMARY;LANGUAGE=es-es:Tecnowebinars.com - :: Galper: ERP integral para la industria alimentaria
TRANSP:OPAQUE
UID:caf5680069d5a9de1d4f8f3106893165 Tecnowebinars.com
X-MICROSOFT-CDO-BUSYSTATUS:BUSY
X-MICROSOFT-CDO-IMPORTANCE:1
X-MICROSOFT-DISALLOW-COUNTER:FALSE
X-MS-OLK-ALLOWEXTERNCHECK:TRUE
X-MS-OLK-AUTOFILLLOCATION:FALSE
X-MS-OLK-CONFTYPE:0
BEGIN:VALARM
TRIGGER:-PT1440M
ACTION:DISPLAY
DESCRIPTION:Reminder
END:VALARM
END:VEVENT
END:VCALENDAR
