BEGIN:VCALENDAR
PRODID:-//Microsoft Corporation//Outlook 12.0 MIMEDIR//EN
VERSION:2.0
METHOD:PUBLISH
X-MS-OLK-FORCEINSPECTOROPEN:TRUE
BEGIN:VEVENT
CLASS:PUBLIC
CREATED:20260419T142918Z
DESCRIPTION:Digitalice todo el proceso de onboarding con automatización avanzada + IA: gestión de información, verificaciones KYC, firma digital y activación de servicios. Mejore la productividad, minimice errores y elimine el uso de papel para un entorno más ágil, seguro y sostenible.\n \n
DTSTART:20250430T160000
DTEND:20250430T170000
DTSTAMP:20260419T142918Z
LOCATION:Online
PRIORITY:5
SEQUENCE:0
SUMMARY;LANGUAGE=es-es:Tecnowebinars.com - :: Onboarding digital de clientes en banca
TRANSP:OPAQUE
UID:f3c3de3c3dd656a11e23235b89f20a13 Tecnowebinars.com
X-MICROSOFT-CDO-BUSYSTATUS:BUSY
X-MICROSOFT-CDO-IMPORTANCE:1
X-MICROSOFT-DISALLOW-COUNTER:FALSE
X-MS-OLK-ALLOWEXTERNCHECK:TRUE
X-MS-OLK-AUTOFILLLOCATION:FALSE
X-MS-OLK-CONFTYPE:0
BEGIN:VALARM
TRIGGER:-PT1440M
ACTION:DISPLAY
DESCRIPTION:Reminder
END:VALARM
END:VEVENT
END:VCALENDAR
