BEGIN:VCALENDAR
PRODID:-//Microsoft Corporation//Outlook 12.0 MIMEDIR//EN
VERSION:2.0
METHOD:PUBLISH
X-MS-OLK-FORCEINSPECTOROPEN:TRUE
BEGIN:VEVENT
CLASS:PUBLIC
CREATED:20260419T185526Z
DESCRIPTION:En la era digital y de la Inteligencia Artificial, los Analistas de Procesos y Analistas Funcionales de Sistemas deben dar un paso adelante y transformarse en Arquitectos e Ingenieros de Procesos Digitales.\n¿Se trata solo de un cambio de nombre?  Obviamente no.\nSe requieren una evolución profesional, con nuevas competencias en Gestión Moderna de Procesos para la Hiperautomatización y Transformación Digital de procesos (Modern BPM).\nEstas competencias modernas no se deben únicamente al avance tecnológico. También responden a un cambio profundo de enfoques y paradigmas, superando definitivamente las prácticas tradicionales y obsoletas de gestión de procesos.\nDe la mano de un pionero en la disciplina, este webinar te permitirá conocer en detalle cuáles son las competencias  - conocimientos y habilidades - que definen a los nuevos profesionales de procesos y sistemas en la era digital.\n
DTSTART:20250710T170000
DTEND:20250710T180000
DTSTAMP:20260419T185526Z
LOCATION:Online
PRIORITY:5
SEQUENCE:0
SUMMARY;LANGUAGE=es-es:Tecnowebinars.com - :: Modern BPM requiere Arquitectos e Ingenieros de Procesos Digitales. Competencias profesionales requeridas.
TRANSP:OPAQUE
UID:0509f63f513217f2b4523f82601d8217 Tecnowebinars.com
X-MICROSOFT-CDO-BUSYSTATUS:BUSY
X-MICROSOFT-CDO-IMPORTANCE:1
X-MICROSOFT-DISALLOW-COUNTER:FALSE
X-MS-OLK-ALLOWEXTERNCHECK:TRUE
X-MS-OLK-AUTOFILLLOCATION:FALSE
X-MS-OLK-CONFTYPE:0
BEGIN:VALARM
TRIGGER:-PT1440M
ACTION:DISPLAY
DESCRIPTION:Reminder
END:VALARM
END:VEVENT
END:VCALENDAR
