BEGIN:VCALENDAR
PRODID:-//Microsoft Corporation//Outlook 12.0 MIMEDIR//EN
VERSION:2.0
METHOD:PUBLISH
X-MS-OLK-FORCEINSPECTOROPEN:TRUE
BEGIN:VEVENT
CLASS:PUBLIC
CREATED:20260419T171127Z
DESCRIPTION:Todos reconocen la importancia de los datos y del Data Management, pero muy pocos saben que “Los datos no nacen de los sistemas.  Nacen de los procesos.”\nEn la era de la Hiperautomatización y Transformación Digital de procesos, el modelado e integración de datos es vital para:\n \n\nLa Alineación Estratégica de los procesos\n \n\n\nLa aplicación eficaz de la Inteligencia Artificial\n \n\n\nEl funcionamiento eficiente de la Inteligencia Operacional Predictiva\n \n\n\nEl máximo rendimiento a la Inteligencia de Reglas y Decisiones\n \n\n\nUn eficaz “Data Management” (Análisis y Ciencia de Datos)\n \n\n\nAuditorías, Control Interno y otras trazabilidades requeridas\n \n\n\nY el cumplimiento de muchos otros objetivos\n\nPor ello, es imprescindible que los procesos de negocio estén fundamentados en Modelos Conceptuales Detallados y Físicos de Datos bien definidos, estructurados y plenamente integrados.\nEn la Gestión Moderna de Procesos, los procesos no se modelan, diseñan, ni gestionan solo con datos físicos (documentos, formularios, archivos, comunicaciones, etc.).  Es fundamental diseñar y estructurar los datos de forma   conceptual detallada, incluyendo reglas y políticas, e integrarlos plenamente en todos los elementos de los procesos.\n
DTSTART:20250703T180000
DTEND:20250703T190000
DTSTAMP:20260419T171127Z
LOCATION:Online
PRIORITY:5
SEQUENCE:0
SUMMARY;LANGUAGE=es-es:Tecnowebinars.com - :: El Poder del Modelado e Integración de Datos en el Modern BPM
TRANSP:OPAQUE
UID:5f4ddbf8e130de5df257a1678199da8c Tecnowebinars.com
X-MICROSOFT-CDO-BUSYSTATUS:BUSY
X-MICROSOFT-CDO-IMPORTANCE:1
X-MICROSOFT-DISALLOW-COUNTER:FALSE
X-MS-OLK-ALLOWEXTERNCHECK:TRUE
X-MS-OLK-AUTOFILLLOCATION:FALSE
X-MS-OLK-CONFTYPE:0
BEGIN:VALARM
TRIGGER:-PT1440M
ACTION:DISPLAY
DESCRIPTION:Reminder
END:VALARM
END:VEVENT
END:VCALENDAR
