BEGIN:VCALENDAR
PRODID:-//Microsoft Corporation//Outlook 12.0 MIMEDIR//EN
VERSION:2.0
METHOD:PUBLISH
X-MS-OLK-FORCEINSPECTOROPEN:TRUE
BEGIN:VEVENT
CLASS:PUBLIC
CREATED:20260419T173409Z
DESCRIPTION: Tener los procesos de negocio permanentemente alineados al plan estratégico empresarial es vital para que las organizaciones mantengan conectada su operación con sus objetivos tácticos y estratégicos.\n \nMuchas organizaciones creen erróneamente que implementar soluciones de Business Intelligence (BI) y Balanced Scorecard (BSC) es suficiente para lograr la alineación estratégica de sus procesos. \n \nEn el marco de la Gestión Moderna de Procesos, promovida e implementada por Club-BPM, la alineación estratégica no solo conecta con la estrategia empresarial, sino que también se integra con el Modelo de Madurez de Procesos y Transformación Digital, asegurando una alineación más completa, sólida y controlada. \n \nA través de este webinar podrás aprender la importancia de la Alineación Estratégica de Procesos y porqué con los enfoques modernos de Club-BPM, conecta directamente con el Modelo de Madurez de Procesos y Transformación Digital.\n
DTSTART:20250619T200000
DTEND:20250619T210000
DTSTAMP:20260419T173409Z
LOCATION:Online
PRIORITY:5
SEQUENCE:0
SUMMARY;LANGUAGE=es-es:Tecnowebinars.com - :: Alineación Estratégica de Procesos y Modelo de Madurez en la Era Digital
TRANSP:OPAQUE
UID:30891558f6614af551b2499f407d1687 Tecnowebinars.com
X-MICROSOFT-CDO-BUSYSTATUS:BUSY
X-MICROSOFT-CDO-IMPORTANCE:1
X-MICROSOFT-DISALLOW-COUNTER:FALSE
X-MS-OLK-ALLOWEXTERNCHECK:TRUE
X-MS-OLK-AUTOFILLLOCATION:FALSE
X-MS-OLK-CONFTYPE:0
BEGIN:VALARM
TRIGGER:-PT1440M
ACTION:DISPLAY
DESCRIPTION:Reminder
END:VALARM
END:VEVENT
END:VCALENDAR
