BEGIN:VCALENDAR
PRODID:-//Microsoft Corporation//Outlook 12.0 MIMEDIR//EN
VERSION:2.0
METHOD:PUBLISH
X-MS-OLK-FORCEINSPECTOROPEN:TRUE
BEGIN:VEVENT
CLASS:PUBLIC
CREATED:20260419T173302Z
DESCRIPTION: Abordar un proyecto de Automatización y Transformación Digital, con el tradicional levantamiento “As-Is” de Procesos es el PEOR enfoque que se puede aplicar.\n \n¿Porqué ocurre esto en la amplia mayoría de empresas? Porque siguen ancladas en la Gestión "tradicional (antigua)" de procesos. \n \nLos Modelos Lógicos Disruptivos (MLD) son modelos detallados de procesos que impulsan de manera decisiva la Innovación y Transformación, logrando una ruptura brusca (disrupción) desde el inicio de cualquier proyecto de Automatización con IA y otras tecnologías. \n \nSu aplicación garantiza resultados de alta calidad a un menor coste, optimizando la eficiencia operacional desde el inicio, entre muchos otros beneficios. \n \nEl desarrollo de los MLD SUPERA el enfoque tradicional (antiguo) y perjudicial del Levantamiento “As-Is” de los procesos, frente a las exigencias de la era actual. \n \nLos MLD no son modelos o diseños de procesos "To-Be". De la mano del pionero, en este webinar podremos apreciar este enfoque innovador y cuáles son sus inmensos beneficios. \n
DTSTART:20250605T160000
DTEND:20250605T170000
DTSTAMP:20260419T173302Z
LOCATION:Online
PRIORITY:5
SEQUENCE:0
SUMMARY;LANGUAGE=es-es:Tecnowebinars.com - :: Adiós al contraproducente Levantamiento As-Is de procesos. Bienvenidos Modelos Lógicos Disruptivos.
TRANSP:OPAQUE
UID:cb13c7a40937e429aa778232fb0fac38 Tecnowebinars.com
X-MICROSOFT-CDO-BUSYSTATUS:BUSY
X-MICROSOFT-CDO-IMPORTANCE:1
X-MICROSOFT-DISALLOW-COUNTER:FALSE
X-MS-OLK-ALLOWEXTERNCHECK:TRUE
X-MS-OLK-AUTOFILLLOCATION:FALSE
X-MS-OLK-CONFTYPE:0
BEGIN:VALARM
TRIGGER:-PT1440M
ACTION:DISPLAY
DESCRIPTION:Reminder
END:VALARM
END:VEVENT
END:VCALENDAR
