BEGIN:VCALENDAR
PRODID:-//Microsoft Corporation//Outlook 12.0 MIMEDIR//EN
VERSION:2.0
METHOD:PUBLISH
X-MS-OLK-FORCEINSPECTOROPEN:TRUE
BEGIN:VEVENT
CLASS:PUBLIC
CREATED:20260419T143822Z
DESCRIPTION:Veremos cómo Agile e Inteligencia Artificial están revolucionando diversas industrias más allá del mundo IT.Exploraremos tendencias y aplicaciones prácticas en sectores como banca, salud, educación, marketing y startups. Esta sesión brindará una visión estratégica sobre el impacto de Agile y la IA en la toma de decisiones y la optimización de procesos.\n
DTSTART:20250423T200000
DTEND:20250423T210000
DTSTAMP:20260419T143822Z
LOCATION:Online
PRIORITY:5
SEQUENCE:0
SUMMARY;LANGUAGE=es-es:Tecnowebinars.com - :: Agile & IA más allá de IT: Innovación y Creatividad en Todos los Sectores
TRANSP:OPAQUE
UID:eeb54fad328cacb1dc0f003059b72425 Tecnowebinars.com
X-MICROSOFT-CDO-BUSYSTATUS:BUSY
X-MICROSOFT-CDO-IMPORTANCE:1
X-MICROSOFT-DISALLOW-COUNTER:FALSE
X-MS-OLK-ALLOWEXTERNCHECK:TRUE
X-MS-OLK-AUTOFILLLOCATION:FALSE
X-MS-OLK-CONFTYPE:0
BEGIN:VALARM
TRIGGER:-PT1440M
ACTION:DISPLAY
DESCRIPTION:Reminder
END:VALARM
END:VEVENT
END:VCALENDAR
