BEGIN:VCALENDAR
PRODID:-//Microsoft Corporation//Outlook 12.0 MIMEDIR//EN
VERSION:2.0
METHOD:PUBLISH
X-MS-OLK-FORCEINSPECTOROPEN:TRUE
BEGIN:VEVENT
CLASS:PUBLIC
CREATED:20260419T172256Z
DESCRIPTION:La agilidad va más allá de herramientas como tableros y tarjetas; es un lenguaje común que conecta equipos en una organización. Promueve la colaboración, autonomía y adaptación rápida frente al cambio.\n \nLos marcos ágiles facilitan la comunicación y alineación, empoderando a los equipos y fomentando la mejora continua. La agilidad crea una cultura de aprendizaje e innovación constante, permitiendo a las empresas ser más resilientes. En definitiva, la agilidad transforma la forma en que trabajamos, innovamos y gestionamos el cambio. \n
DTSTART:20250623T160000
DTEND:20250623T170000
DTSTAMP:20260419T172256Z
LOCATION:Online
PRIORITY:5
SEQUENCE:0
SUMMARY;LANGUAGE=es-es:Tecnowebinars.com - :: Agilidad como lenguaje organizacional: conectando equipos
TRANSP:OPAQUE
UID:4a57e4a3c08cb12bde47afa043498c93 Tecnowebinars.com
X-MICROSOFT-CDO-BUSYSTATUS:BUSY
X-MICROSOFT-CDO-IMPORTANCE:1
X-MICROSOFT-DISALLOW-COUNTER:FALSE
X-MS-OLK-ALLOWEXTERNCHECK:TRUE
X-MS-OLK-AUTOFILLLOCATION:FALSE
X-MS-OLK-CONFTYPE:0
BEGIN:VALARM
TRIGGER:-PT1440M
ACTION:DISPLAY
DESCRIPTION:Reminder
END:VALARM
END:VEVENT
END:VCALENDAR
