BEGIN:VCALENDAR
PRODID:-//Microsoft Corporation//Outlook 12.0 MIMEDIR//EN
VERSION:2.0
METHOD:PUBLISH
X-MS-OLK-FORCEINSPECTOROPEN:TRUE
BEGIN:VEVENT
CLASS:PUBLIC
CREATED:20260419T142816Z
DESCRIPTION: ¿De qué va este seminario?\n \nEn un mundo donde todo parece urgente, donde la productividad se mide en velocidad y donde el tiempo nunca es suficiente, proponemos una alternativa: tomarte tu tiempo, no como un lujo, sino como una estrategia.\n \nEste seminario es una invitación a parar, pensar y actuar con sentido.En este seminario descubrirás cómo recuperar el control de tu tiempo, reconectar con lo que realmente importa y diseñar un sistema gestión personal más coherente con tu propósito, tus valores y tu bienestar.\n \n¿Qué vas a aprender? Qué significa realmente “tomarse el tiempo” y cómo aplicarlo sin perder efectividad.\n \nCómo empezar a definir tu Ikigai personal y alinear tus decisiones diarias con él.\n \nLas bases de un sistema de organización personal sostenible, que combine dirección y flexibilidad.\n \nCómo aplicar el modelo tanto a nivel individual como en equipos y organizaciones.\n \nRecursos prácticos: juegos, ejercicios y herramientas para aplicar desde el día siguiente.\n \nContenidos principales:\n \n- Ikigai y sistemas personales: claridad interior para diseñar acciones exteriores.\n- Del caos a la claridad: cómo gestionar tu tiempo sin perder tu esencia.\n- Hábitos con alma: cómo convertir buenas intenciones en cambios reales.\n
DTSTART:20250429T160000
DTEND:20250429T170000
DTSTAMP:20260419T142816Z
LOCATION:Online
PRIORITY:5
SEQUENCE:0
SUMMARY;LANGUAGE=es-es:Tecnowebinars.com - :: Sistemas de autogestión: Redescubre tu ritmo y rediseña tu día a día
TRANSP:OPAQUE
UID:da47d0027104e1f7a9f316db45eb900d Tecnowebinars.com
X-MICROSOFT-CDO-BUSYSTATUS:BUSY
X-MICROSOFT-CDO-IMPORTANCE:1
X-MICROSOFT-DISALLOW-COUNTER:FALSE
X-MS-OLK-ALLOWEXTERNCHECK:TRUE
X-MS-OLK-AUTOFILLLOCATION:FALSE
X-MS-OLK-CONFTYPE:0
BEGIN:VALARM
TRIGGER:-PT1440M
ACTION:DISPLAY
DESCRIPTION:Reminder
END:VALARM
END:VEVENT
END:VCALENDAR
