BEGIN:VCALENDAR
PRODID:-//Microsoft Corporation//Outlook 12.0 MIMEDIR//EN
VERSION:2.0
METHOD:PUBLISH
X-MS-OLK-FORCEINSPECTOROPEN:TRUE
BEGIN:VEVENT
CLASS:PUBLIC
CREATED:20260419T142800Z
DESCRIPTION: Objetivo del taller\n \nExplorar de forma práctica cómo utilizar Agentes IA con GPTs especializados dentro del enfoque Fast Innovation, para entender profundamente las necesidades reales de los clientes y priorizar problemas con impacto, acelerando la toma de decisiones estratégicas en proyectos de innovación.\n \nAl finalizar la sesión, los asistentes serán capaces de:\n \n- Utilizar herramientas de Fast Innovation como Técnica Persona, Mapa de Empatía, Jobs to Be Done e Impact Check para analizar un reto desde la perspectiva del usuario.\n- Detectar y priorizar problemáticas reales basándose en datos cualitativos y criterios de impacto.\n- Enfocar la innovación hacia soluciones que resuelvan lo que realmente importa a los clientes.\n- Vivir en primera persona cómo un Agente IA, dentro de la metodología Fast Innovation, puede acompañar todo el proceso de descubrimiento de manera estructurada, ágil y eficaz.\n \nTema principal\n \n"Entender el problema es parte de la solución"Con Fast Innovation y nuestros Agentes IA, aprenderás a poner al usuario en el centro, detectar lo que de verdad está frenando el avance y actuar con foco. Innovar ya no es cuestión de tiempo... es cuestión de enfoque.\n
DTSTART:20250408T160000
DTEND:20250408T170000
DTSTAMP:20260419T142800Z
LOCATION:Online
PRIORITY:5
SEQUENCE:0
SUMMARY;LANGUAGE=es-es:Tecnowebinars.com - :: Agentes IA con GPTs para entender al cliente
TRANSP:OPAQUE
UID:081cdfaaabaff0dd9c5da6cdc492496a Tecnowebinars.com
X-MICROSOFT-CDO-BUSYSTATUS:BUSY
X-MICROSOFT-CDO-IMPORTANCE:1
X-MICROSOFT-DISALLOW-COUNTER:FALSE
X-MS-OLK-ALLOWEXTERNCHECK:TRUE
X-MS-OLK-AUTOFILLLOCATION:FALSE
X-MS-OLK-CONFTYPE:0
BEGIN:VALARM
TRIGGER:-PT1440M
ACTION:DISPLAY
DESCRIPTION:Reminder
END:VALARM
END:VEVENT
END:VCALENDAR
