BEGIN:VCALENDAR
PRODID:-//Microsoft Corporation//Outlook 12.0 MIMEDIR//EN
VERSION:2.0
METHOD:PUBLISH
X-MS-OLK-FORCEINSPECTOROPEN:TRUE
BEGIN:VEVENT
CLASS:PUBLIC
CREATED:20260419T131635Z
DESCRIPTION:El 5 de marzo de 2025 el Ministerio de Economía publicó un nuevo texto del Borrador del Proyecto de Factura electrónica que se somete a audiencia pública hasta el 7 de abril de 2025. Por tanto, hasta dicha fecha, las empresas y las personas físicas, empresarios y profesionales, podrán realizar observaciones a este texto.\n \nEste nuevo texto se adapta a las siguientes novedades producidas en los últimos meses:\n \na) La aprobación de la Ley 7/2024, de 20 de diciembre, del Impuesto Complementario, mediante la que también se han introducido modificaciones que afectan a la facturación electrónica, tales como el tratamiento de datos personales y la creación de la "solución pública de facturación", como un repositorio universal y obligatorio, de todas las facturas electrónicas que se emitan. \n \nb) La inminente modificación de la Directiva 2006/112/CE del Impuesto sobre el Valor Añadido (IVA) en el marco del VAT in the Digital Age.\n \nc) La aprobación de la normativa relativa a otro proyecto en marcha en materia de facturación. Nos referimos a la normativa relativa a los requisitos que deberán cumplir los sistemas y programas informáticos o electrónicos de facturación (conocido como Veri*factu)\n \nEn este webinar Luis Vilanova te pondrá al día de todos estos cambios y del timing de puesta en marcha. \n
DTSTART:20250327T153000
DTEND:20250327T163000
DTSTAMP:20260419T131635Z
LOCATION:Online
PRIORITY:5
SEQUENCE:0
SUMMARY;LANGUAGE=es-es:Tecnowebinars.com - :: Ley Crea y Crece: nuevo borrador y novedades
TRANSP:OPAQUE
UID:dbf127141e98ac8b1307a8541dfbb93e Tecnowebinars.com
X-MICROSOFT-CDO-BUSYSTATUS:BUSY
X-MICROSOFT-CDO-IMPORTANCE:1
X-MICROSOFT-DISALLOW-COUNTER:FALSE
X-MS-OLK-ALLOWEXTERNCHECK:TRUE
X-MS-OLK-AUTOFILLLOCATION:FALSE
X-MS-OLK-CONFTYPE:0
BEGIN:VALARM
TRIGGER:-PT1440M
ACTION:DISPLAY
DESCRIPTION:Reminder
END:VALARM
END:VEVENT
END:VCALENDAR
