BEGIN:VCALENDAR
PRODID:-//Microsoft Corporation//Outlook 12.0 MIMEDIR//EN
VERSION:2.0
METHOD:PUBLISH
X-MS-OLK-FORCEINSPECTOROPEN:TRUE
BEGIN:VEVENT
CLASS:PUBLIC
CREATED:20260419T130635Z
DESCRIPTION:SAP Analytics Cloud es una solución en la nube end to end, que cubre los procesos de Business Intelligence, Advanced Analytics, Predictive Analytics y Planificación Empresarial en una sola plataforma integrada.\nLos principales beneficios de SAP Analytics Cloud incluyen la facilidad de creación de informes con una elevada calidad visual, el acceso a herramientas avanzadas e inteligentes de visualización, el empleo de herramientas de aprendizaje de máquina, el uso de funciones de planificación financiera y el acceso a datos confiables mediante la integración con otros productos de SAP. \nEn una única plataforma en la nube, puede analizar, predecir, planificar y generar informes.\nEn esta conferencia se explicarán los principales componentes de la arquitectura SAP Analytics Cloud, así se mostrarán funciones de administración fundamentales para un uso óptimo de la plataforma, como parte inicial al conocimiento integral de la plataforma analítica SAP Analytics Cloud. \nLos puntos principales que se van a tocar son:\n-	Arquitectura de componentes de SAP SAC\n-	El administrador de contenidos\n-	La barra Shell\n-	Los catálogos\n-	Áreas de trabajo, seguridad y conectividad.\nEn el mercado 99 de las 100 más grandes empresas en el mundo son clientes SAP y estos generan más del 87% del comercio global (47 trillones de USD) con las plataformas SAP. “Un profesional SAP es reconocido a nivel mundial, se encuentra en la cúspide de los procesos de innovación y ve al mundo como su mercado de desarrollo profesional”.\nSAP Analytics Cloud es la solución SAAS de Computación en la nube basada en HANA más innovadora de SAP que aprovecha las tecnologías de aprendizaje de máquina (Machine Learning), inteligencia artificial y analítica avanzada, preservando las infraestructuras locales para proporcionar conocimiento efectivo a la empresa.\n \n
DTSTART:20250401T150000
DTEND:20250401T160000
DTSTAMP:20260419T130635Z
LOCATION:Online
PRIORITY:5
SEQUENCE:0
SUMMARY;LANGUAGE=es-es:Tecnowebinars.com - :: SAP Analytics Cloud: Conceptos de Arquitectura y Administración General
TRANSP:OPAQUE
UID:913e1db17c4c4acc503f4b97e9740f73 Tecnowebinars.com
X-MICROSOFT-CDO-BUSYSTATUS:BUSY
X-MICROSOFT-CDO-IMPORTANCE:1
X-MICROSOFT-DISALLOW-COUNTER:FALSE
X-MS-OLK-ALLOWEXTERNCHECK:TRUE
X-MS-OLK-AUTOFILLLOCATION:FALSE
X-MS-OLK-CONFTYPE:0
BEGIN:VALARM
TRIGGER:-PT1440M
ACTION:DISPLAY
DESCRIPTION:Reminder
END:VALARM
END:VEVENT
END:VCALENDAR
