BEGIN:VCALENDAR
PRODID:-//Microsoft Corporation//Outlook 12.0 MIMEDIR//EN
VERSION:2.0
METHOD:PUBLISH
X-MS-OLK-FORCEINSPECTOROPEN:TRUE
BEGIN:VEVENT
CLASS:PUBLIC
CREATED:20260424T090503Z
DESCRIPTION:Modern applications are built on APIs, yet traditional application security approaches often overlook this critical attack surface. While application security focuses on code vulnerabilities, misconfigurations, and runtime protections, API security addresses the unique risks posed by API exposure, authentication, data access, and business logic abuse.\nIn this webinar, we'll break down the relationship between API Security and Application Security, highlighting where they overlap, how they differ, and why organizations must prioritize both to protect against modern threats. We'll also discuss how strengthening API security can help reduce key risks on your risk heatmap, making them less likely to occur and minimizing their potential impact.\nWho should attend?\nCISOs, CIOs, Security Architects, SOC teams, DevSecOps, and anyone responsible for securing applications and APIs in today's evolving threat landscape.\nJoin us to learn how API security helps reduce organizational risk, enabling security leaders to manage API threats effectively and align security efforts with business objectives.\n
DTSTART:20250320T150000
DTEND:20250320T160000
DTSTAMP:20260424T090503Z
LOCATION:Online
PRIORITY:5
SEQUENCE:0
SUMMARY;LANGUAGE=es-es:Tecnowebinars.com - :: Application Security ≠ API Security: Understanding the Differences & the Need for Both
TRANSP:OPAQUE
UID:4ab6523a11ea773f055a9b2b0a0deb79 Tecnowebinars.com
X-MICROSOFT-CDO-BUSYSTATUS:BUSY
X-MICROSOFT-CDO-IMPORTANCE:1
X-MICROSOFT-DISALLOW-COUNTER:FALSE
X-MS-OLK-ALLOWEXTERNCHECK:TRUE
X-MS-OLK-AUTOFILLLOCATION:FALSE
X-MS-OLK-CONFTYPE:0
BEGIN:VALARM
TRIGGER:-PT1440M
ACTION:DISPLAY
DESCRIPTION:Reminder
END:VALARM
END:VEVENT
END:VCALENDAR
