BEGIN:VCALENDAR
PRODID:-//Microsoft Corporation//Outlook 12.0 MIMEDIR//EN
VERSION:2.0
METHOD:PUBLISH
X-MS-OLK-FORCEINSPECTOROPEN:TRUE
BEGIN:VEVENT
CLASS:PUBLIC
CREATED:20260419T130634Z
DESCRIPTION: \n¿Cuál ha sido el impacto de la IA en BPM hasta la fecha?\nAplicación de la IA para: \nModelado de procesos\nTransformación e hiperautomatización de procesos\nMonitorización y optimización de procesos\nImpacto en los profesionales y organizaciones\nRiesgos y desafíos\n
DTSTART:20250306T180000
DTEND:20250306T193000
DTSTAMP:20260419T130634Z
LOCATION:Online
PRIORITY:5
SEQUENCE:0
SUMMARY;LANGUAGE=es-es:Tecnowebinars.com - :: Impacto de la IA generativa en BPM
TRANSP:OPAQUE
UID:cd3d01029fc80126bd8c5eedf536a00e Tecnowebinars.com
X-MICROSOFT-CDO-BUSYSTATUS:BUSY
X-MICROSOFT-CDO-IMPORTANCE:1
X-MICROSOFT-DISALLOW-COUNTER:FALSE
X-MS-OLK-ALLOWEXTERNCHECK:TRUE
X-MS-OLK-AUTOFILLLOCATION:FALSE
X-MS-OLK-CONFTYPE:0
BEGIN:VALARM
TRIGGER:-PT1440M
ACTION:DISPLAY
DESCRIPTION:Reminder
END:VALARM
END:VEVENT
END:VCALENDAR
