BEGIN:VCALENDAR
PRODID:-//Microsoft Corporation//Outlook 12.0 MIMEDIR//EN
VERSION:2.0
METHOD:PUBLISH
X-MS-OLK-FORCEINSPECTOROPEN:TRUE
BEGIN:VEVENT
CLASS:PUBLIC
CREATED:20260419T142821Z
DESCRIPTION:En un entorno donde la digitalización del control horario es esencial para el cumplimiento normativo y la optimización empresarial, este webinar está diseñado para abordar las claves tecnológicas que garantizan un registro de jornada seguro, inalterable y accesible. Exploraremos cómo la criptografía, los certificados electrónicos y la interoperabilidad con las administraciones públicas juegan un papel fundamental en la auditoría y certificación de sistemas de control horario.\n \nEste evento está dirigido a responsables de TI, directores de recursos humanos, auditores y expertos en cumplimiento normativo, proporcionando un enfoque práctico y basado en tecnologías avanzadas.\n \nAgenda del Webinar\n✅ Bienvenida y contexto actual del control horario digital (10 min)\n \nRevisión de la normativa vigente en España y Europa: Real Decreto-ley 8/2019, eIDAS, ENS, GDPR.\nTendencias y desafíos en la digitalización del registro de jornada.\n✅ Tecnologías clave para un registro de jornada seguro (15 min)\n \nCriptografía aplicada: Cifrado TLS 1.3, AES-256 en datos en tránsito y en reposo.\nCertificados electrónicos cualificados: Garantía de identidad y autenticación fuerte.\nSellado de tiempo cualificado (TSA): Trazabilidad legalmente válida de cada fichaje.\nBlockchain y bases de datos WORM: Protección contra modificaciones indebidas.\n✅ Interoperabilidad y accesibilidad del registro horario (15 min)\n \nAPIs seguras y acceso gubernamental: Cumplimiento con la Inspección de Trabajo.\nGeneración de informes digitales firmados en XAdES/PAdES.\nCasos de uso y experiencias en integración con administraciones públicas.\n✅ Evaluación y auditoría de sistemas de control horario (15 min)\n \nPrincipales vulnerabilidades detectadas en auditorías recientes.\nChecklist para garantizar conformidad con la legislación.\nCómo garantizar la disponibilidad de los registros durante 4 años.\n✅ Casos prácticos y demostración técnica (20 min)\n \nEjemplo de validación de identidad con DNIe y Cl@ve.\nSimulación de un fichaje con firma digital y sellado de tiempo.\nEjemplo de auditoría sobre un sistema de control horario.\n✅ Preguntas y respuestas en vivo (15 min)\n \n¿Por qué asistir?\n✔ Comprenderás los requisitos técnicos y legales de un sistema de control horario.\n✔ Aprenderás cómo implementar tecnologías de seguridad en tu empresa.\n✔ Descubrirás cómo una auditoría puede evitar sanciones y mejorar la protección de datos.\n
DTSTART:20250424T153000
DTEND:20250424T163000
DTSTAMP:20260419T142821Z
LOCATION:Online
PRIORITY:5
SEQUENCE:0
SUMMARY;LANGUAGE=es-es:Tecnowebinars.com - :: Tecnología y Seguridad en el Registro de Jornada Laboral
TRANSP:OPAQUE
UID:54b39f3c7965a4a6c82c2bf3ccf29033 Tecnowebinars.com
X-MICROSOFT-CDO-BUSYSTATUS:BUSY
X-MICROSOFT-CDO-IMPORTANCE:1
X-MICROSOFT-DISALLOW-COUNTER:FALSE
X-MS-OLK-ALLOWEXTERNCHECK:TRUE
X-MS-OLK-AUTOFILLLOCATION:FALSE
X-MS-OLK-CONFTYPE:0
BEGIN:VALARM
TRIGGER:-PT1440M
ACTION:DISPLAY
DESCRIPTION:Reminder
END:VALARM
END:VEVENT
END:VCALENDAR
