BEGIN:VCALENDAR
PRODID:-//Microsoft Corporation//Outlook 12.0 MIMEDIR//EN
VERSION:2.0
METHOD:PUBLISH
X-MS-OLK-FORCEINSPECTOROPEN:TRUE
BEGIN:VEVENT
CLASS:PUBLIC
CREATED:20260419T114301Z
DESCRIPTION: La charla número 2, trata sobre las aplicaciones de analítica avanzada automatizada que vienen programadas en los objetos visuales y que permitirán construir los reportes para la gerencia que en SAP SAC se conocen con el nombre de “Historias”.\n \nEn SAP Analytics Cloud las aplicaciones de analítica avanzada pueden ser diversas entre las que se encuentran:\n \n- El explorador de datos\n- El análisis inteligente\n- La gestión de tablas multidimensionales\n- Los formatos condicionales\n- Los campos y dimensiones calculadas\n- Los indicadores calculados y restringidos\n \nAsimismo se pueden combinar datos para enriquecer el análisis con diversas estructuras de datos a través de las funciones de vinculación.\n
DTSTART:20250227T160000
DTEND:20250227T170000
DTSTAMP:20260419T114301Z
LOCATION:Online
PRIORITY:5
SEQUENCE:0
SUMMARY;LANGUAGE=es-es:Tecnowebinars.com - :: Analítica Avanzada (historias)
TRANSP:OPAQUE
UID:7f9c48fc9da0b87cccc9d5f3a8722aa8 Tecnowebinars.com
X-MICROSOFT-CDO-BUSYSTATUS:BUSY
X-MICROSOFT-CDO-IMPORTANCE:1
X-MICROSOFT-DISALLOW-COUNTER:FALSE
X-MS-OLK-ALLOWEXTERNCHECK:TRUE
X-MS-OLK-AUTOFILLLOCATION:FALSE
X-MS-OLK-CONFTYPE:0
BEGIN:VALARM
TRIGGER:-PT1440M
ACTION:DISPLAY
DESCRIPTION:Reminder
END:VALARM
END:VEVENT
END:VCALENDAR
