BEGIN:VCALENDAR
PRODID:-//Microsoft Corporation//Outlook 12.0 MIMEDIR//EN
VERSION:2.0
METHOD:PUBLISH
X-MS-OLK-FORCEINSPECTOROPEN:TRUE
BEGIN:VEVENT
CLASS:PUBLIC
CREATED:20260419T114301Z
DESCRIPTION: En esta sesión se hablará de la arquitectura general de SAP Analytics Cloud, y sus principales áreas de trabajo como los catálogos o el explorador de contenidos para posteriormente hablar sobre los procesos de importación o conectividad con fuentes externas SAP / No SAP.\n \nAl final se revisará un modelo de datos clásico basado en el esquema estrella, que son la base de los desarrollos analíticos de la plataforma SAP SAC discutiendo sobre todas las entidades relacionadas con estas estructuras.\n
DTSTART:20250220T160000
DTEND:20250220T170000
DTSTAMP:20260419T114301Z
LOCATION:Online
PRIORITY:5
SEQUENCE:0
SUMMARY;LANGUAGE=es-es:Tecnowebinars.com - :: Modelamiento de Datos en SAP SAC
TRANSP:OPAQUE
UID:1d74c4879c791e35417e884e4f6fc731 Tecnowebinars.com
X-MICROSOFT-CDO-BUSYSTATUS:BUSY
X-MICROSOFT-CDO-IMPORTANCE:1
X-MICROSOFT-DISALLOW-COUNTER:FALSE
X-MS-OLK-ALLOWEXTERNCHECK:TRUE
X-MS-OLK-AUTOFILLLOCATION:FALSE
X-MS-OLK-CONFTYPE:0
BEGIN:VALARM
TRIGGER:-PT1440M
ACTION:DISPLAY
DESCRIPTION:Reminder
END:VALARM
END:VEVENT
END:VCALENDAR
