BEGIN:VCALENDAR
PRODID:-//Microsoft Corporation//Outlook 12.0 MIMEDIR//EN
VERSION:2.0
METHOD:PUBLISH
X-MS-OLK-FORCEINSPECTOROPEN:TRUE
BEGIN:VEVENT
CLASS:PUBLIC
CREATED:20260419T114301Z
DESCRIPTION: \n¿Qué es?\nOMNIX es un software de IA para optimizar las operaciones de la Cadena de Suministro que utiliza datos de los diferentes sistemas para detectar cuellos de botella o anomalías y tomar medidas correctivas. \nSe trata de garantizar la continuidad de las opereaciones y tratar de minimizar el riesgo en entornos complicados.  \n
DTSTART:20250205T160000
DTEND:20250205T190000
DTSTAMP:20260419T114301Z
LOCATION:Online
PRIORITY:5
SEQUENCE:0
SUMMARY;LANGUAGE=es-es:Tecnowebinars.com - :: IA en la Cadena de Suministro
TRANSP:OPAQUE
UID:7883cc8eaeb50f039cdafc81962493d8 Tecnowebinars.com
X-MICROSOFT-CDO-BUSYSTATUS:BUSY
X-MICROSOFT-CDO-IMPORTANCE:1
X-MICROSOFT-DISALLOW-COUNTER:FALSE
X-MS-OLK-ALLOWEXTERNCHECK:TRUE
X-MS-OLK-AUTOFILLLOCATION:FALSE
X-MS-OLK-CONFTYPE:0
BEGIN:VALARM
TRIGGER:-PT1440M
ACTION:DISPLAY
DESCRIPTION:Reminder
END:VALARM
END:VEVENT
END:VCALENDAR
