BEGIN:VCALENDAR
PRODID:-//Microsoft Corporation//Outlook 12.0 MIMEDIR//EN
VERSION:2.0
METHOD:PUBLISH
X-MS-OLK-FORCEINSPECTOROPEN:TRUE
BEGIN:VEVENT
CLASS:PUBLIC
CREATED:20260424T102044Z
DESCRIPTION:Application Programming Interfaces (API) are crucial for modern software development and integration but often present significant security challenges. This session offers an in-depth exploration of how the NIST Cybersecurity Framework (CSF) can be effectively applied to enhance the security of APIs and leverage the structured approach provided by the NIST CSF.\nKey functions covered:\n- Identify: Catalog API assets and resources, and document potential vulnerabilities and risks.\n- Protect: Implement security measures to safeguard APIs, and shift left while shielding right.\n- Detect: Monitor and detect anomalous activities and potential breaches using logging, continuous monitoring tools, and API-specific incident detection systems.\n- Respond: Analyze and mitigate API breaches using forensic tools, develop and execute response strategies, and coordinate communication during security events.\n- Recover: Ensure API service continuity, minimize downtime, and update security practices based on incident learnings.\nDesigned for cybersecurity professionals, IT managers, and API custodians, this session will equip you with actionable strategies to safeguard your digital assets and maintain trust in your API services. Don't miss this opportunity to bolster your API security with expert guidance on applying the NIST CSF framework.\nSecure your spot now and take a decisive step towards mastering API security!\n
DTSTART:20250226T050000
DTEND:20250226T060000
DTSTAMP:20260424T102044Z
LOCATION:Online
PRIORITY:5
SEQUENCE:0
SUMMARY;LANGUAGE=es-es:Tecnowebinars.com - :: Mastering API Security with the NIST CSF Framework: A Deep Dive into Protecting Your Digital Ecosystem
TRANSP:OPAQUE
UID:74e3062a82ec8c5f7fb725ed4a1d6b0e Tecnowebinars.com
X-MICROSOFT-CDO-BUSYSTATUS:BUSY
X-MICROSOFT-CDO-IMPORTANCE:1
X-MICROSOFT-DISALLOW-COUNTER:FALSE
X-MS-OLK-ALLOWEXTERNCHECK:TRUE
X-MS-OLK-AUTOFILLLOCATION:FALSE
X-MS-OLK-CONFTYPE:0
BEGIN:VALARM
TRIGGER:-PT1440M
ACTION:DISPLAY
DESCRIPTION:Reminder
END:VALARM
END:VEVENT
END:VCALENDAR
