BEGIN:VCALENDAR
PRODID:-//Microsoft Corporation//Outlook 12.0 MIMEDIR//EN
VERSION:2.0
METHOD:PUBLISH
X-MS-OLK-FORCEINSPECTOROPEN:TRUE
BEGIN:VEVENT
CLASS:PUBLIC
CREATED:20260419T114301Z
DESCRIPTION: \nLa IA está llamada a dar forma al futuro del aprendizaje y desempeñar un papel fundamental en el ecosistema de aprendizaje. Las organizaciones están ansiosas por comprender el potencial de la IA y determinar cómo integrarla de manera eficaz. Sin embargo, muchas tienen dificultades para elegir las soluciones de IA adecuadas e implementarlas con éxito. En nuestra sesión, exploraremos estrategias para identificar herramientas de IA, evaluar a los proveedores y crear un plan de implementación exitoso.\nDurante esta sesión, usted:\n • Identificar los riesgos comunes de la IA.\nComprenda desafíos como la inexactitud, la ciberseguridad y el cumplimiento.\n • Descubra estrategias de mitigación de riesgos\nAprenda enfoques prácticos para abordar los riesgos clave de la IA.\n • Aplicar las mejores prácticas\nObtenga información de un estudio de caso del mundo real sobre la implementación exitosa de IA.\n \nPresentador\n \nJim Waschbusch\nDirector de Gestión de Productos, MadCap Software\nJim Waschbusch es un gerente de producto apasionado y orientado al valor, con amplia experiencia en la dirección de equipos multifuncionales. Como estratega de alto nivel, se destaca por visualizar el futuro y traducir esa visión en resultados viables y de valor agregado. Su relación técnica y sus habilidades estratégicas le permiten ver el panorama general sin perder de vista los detalles intrincados. Con un profundo conocimiento de los mercados de aprendizaje y gestión de contenido, Jim supervisa todo, desde el concepto hasta la salida al mercado.\nJim es un solucionador de problemas nato, experto en liderar proyectos de alta prioridad y sueña en grande, pero se adapta a las limitaciones de tiempo, presupuesto y capacidad del equipo. Su combinación única de visión estratégica y ejecución práctica lo convierte en un líder inspirador y un activo invaluable para MadCap Software y sus clientes.\n
DTSTART:20250129T140000
DTEND:20250129T150000
DTSTAMP:20260419T114301Z
LOCATION:Online
PRIORITY:5
SEQUENCE:0
SUMMARY;LANGUAGE=es-es:Tecnowebinars.com - :: Hedging Your Bets on a Successful AI Implementation
TRANSP:OPAQUE
UID:d4a4b4e656821d3307335e21d7a9f20e Tecnowebinars.com
X-MICROSOFT-CDO-BUSYSTATUS:BUSY
X-MICROSOFT-CDO-IMPORTANCE:1
X-MICROSOFT-DISALLOW-COUNTER:FALSE
X-MS-OLK-ALLOWEXTERNCHECK:TRUE
X-MS-OLK-AUTOFILLLOCATION:FALSE
X-MS-OLK-CONFTYPE:0
BEGIN:VALARM
TRIGGER:-PT1440M
ACTION:DISPLAY
DESCRIPTION:Reminder
END:VALARM
END:VEVENT
END:VCALENDAR
