BEGIN:VCALENDAR
PRODID:-//Microsoft Corporation//Outlook 12.0 MIMEDIR//EN
VERSION:2.0
METHOD:PUBLISH
X-MS-OLK-FORCEINSPECTOROPEN:TRUE
BEGIN:VEVENT
CLASS:PUBLIC
CREATED:20260419T130634Z
DESCRIPTION: A medida que las ciberamenazas se vuelven más sofisticadas, aprovechar la inteligencia artificial (IA) y el aprendizaje automático (ML) se ha vuelto fundamental para mejorar las defensas cibernéticas. El papel de la IA y el ML en las capacidades de seguridad incluye la automatización de tareas, la realización de análisis predictivos, la identificación de patrones y anomalías, la mejora de la detección de amenazas, la mejora de la respuesta a incidentes y mucho más. El uso de la IA para identificar y priorizar vulnerabilidades y para detectar y analizar malware es una tendencia emergente. Este seminario web arrojará luz sobre el papel de la IA y el ML en la identificación, predicción y neutralización proactiva de las ciberamenazas al tiempo que se agilizan las operaciones de seguridad. Además, los participantes aprenderán enfoques efectivos para implementar la IA para las capacidades de detección y mitigación de amenazas a través de estudios de casos del mundo real. También obtendrán conocimientos sobre la implementación de estrategias de ciberseguridad impulsadas por IA, el abordaje de desafíos del mundo real y el fomento de la resiliencia organizacional. Orador: Michael Shost, experto en prácticas de PMO de TI\n
DTSTART:20250124T143000
DTEND:20250124T153000
DTSTAMP:20260419T130634Z
LOCATION:Online
PRIORITY:5
SEQUENCE:0
SUMMARY;LANGUAGE=es-es:Tecnowebinars.com - :: Building Resilience with AI- and ML-Driven Cybersecurity Strategies
TRANSP:OPAQUE
UID:34fc322adf9c53cf9a79e24010a9d3ad Tecnowebinars.com
X-MICROSOFT-CDO-BUSYSTATUS:BUSY
X-MICROSOFT-CDO-IMPORTANCE:1
X-MICROSOFT-DISALLOW-COUNTER:FALSE
X-MS-OLK-ALLOWEXTERNCHECK:TRUE
X-MS-OLK-AUTOFILLLOCATION:FALSE
X-MS-OLK-CONFTYPE:0
BEGIN:VALARM
TRIGGER:-PT1440M
ACTION:DISPLAY
DESCRIPTION:Reminder
END:VALARM
END:VEVENT
END:VCALENDAR
