BEGIN:VCALENDAR
PRODID:-//Microsoft Corporation//Outlook 12.0 MIMEDIR//EN
VERSION:2.0
METHOD:PUBLISH
X-MS-OLK-FORCEINSPECTOROPEN:TRUE
BEGIN:VEVENT
CLASS:PUBLIC
CREATED:20260419T114301Z
DESCRIPTION: ¿te gustaría conocer cómo facilitan la operativa y la supervisión de producción de forma visual para impulsar la eficiencia otras empresas?\nAyudar al operario en la ejecución de producción y de calidad y al gestor en la supervisión y el análisis se ha convertido en una necesidad para asegurar la eficiencia de operaciones.\nDescubre cómo otras empresas facilitan la operativa, el análisis y la trazabilidad de forma muy visual y eficiente con Captor MES y el mantenimiento con Prisma GMAO en esta sesión de una hora.\nCasos prácticos de digitalización de operaciones\n¿Quieres conocer casos concretos de empresas que han digitalizado sus operaciones? Escucha la experiencia de varias empresas que han adoptado herramientas digitales en sus operaciones para facilitar la operativa, la supervisión, la trazabilidad y el análisis de planta de forma visual y eficiente con sistemas como Captor o Prisma.\nOperativa asistida\n¿imaginas guiar al operario en la ejecución y enviarle alertas para asegurar la ejecución y mantener la eficiencia de los procesos?\nTrazabilidad visual de proceso\n¿Te gustaría conocer qué está ocurriendo en cada fase del proceso de producción?\nMonitorización en tiempo real\n¿te gustaría medir la eficiencia y supervisar visualmente si todo va bien? Monitoriza en tiempo real el estado de las operaciones y mide automáticamente la eficiencia.\nMantenimiento orientado a la fiabilidad\n¿cómo podemos mejorar la fiabilidad de los equipos que mantenemos con los mismos recursos? Descubre cómo lo hacen otras empresas.\nAnálisis dinámico de operaciones\n¿Te gustaría tomar decisiones de mejora con mayor seguridad? Descubre la capa de análisis dinámico (BI) e inteligencia artificial (AI) de Captor y Prisma\nAyudas para proyectos\n¿Te gustaría solicitar alguna ayuda para tu proyecto de digitalización de operaciones? Descubre las ayudas disponibles\n
DTSTART:20250225T100000
DTEND:20250225T110000
DTSTAMP:20260419T114301Z
LOCATION:Online
PRIORITY:5
SEQUENCE:0
SUMMARY;LANGUAGE=es-es:Tecnowebinars.com - :: Casos Prácticos de Digitalización de Operaciones
TRANSP:OPAQUE
UID:22ca9ab86edf42ebdf03c3a826a32c57 Tecnowebinars.com
X-MICROSOFT-CDO-BUSYSTATUS:BUSY
X-MICROSOFT-CDO-IMPORTANCE:1
X-MICROSOFT-DISALLOW-COUNTER:FALSE
X-MS-OLK-ALLOWEXTERNCHECK:TRUE
X-MS-OLK-AUTOFILLLOCATION:FALSE
X-MS-OLK-CONFTYPE:0
BEGIN:VALARM
TRIGGER:-PT1440M
ACTION:DISPLAY
DESCRIPTION:Reminder
END:VALARM
END:VEVENT
END:VCALENDAR
