BEGIN:VCALENDAR
PRODID:-//Microsoft Corporation//Outlook 12.0 MIMEDIR//EN
VERSION:2.0
METHOD:PUBLISH
X-MS-OLK-FORCEINSPECTOROPEN:TRUE
BEGIN:VEVENT
CLASS:PUBLIC
CREATED:20260419T114301Z
DESCRIPTION:T4FoodProducts para Alimentación\nLa salud alimentaria cada vez tiene mayor relevancia y nos conduce a modificar nuestros comportamientos en pro de la ecología y de los hábitos de consumo. Esto se traduce en que los alimentos del futuro serán más personalizables, más saludables y por supuesto más sostenibles. \nLa innovación y la digitalización pueden convertirse en un gran aliado para las empresas de alimentación.\nT4S basada en su experiencia en el sector ha desarrollado la solución T4FoodProducts que es una solución SAP preconfigurada basada en las buenas prácticas del sector, que incorpora desde el inicio los procesos relevantes de la industria mediante la tecnología SAP S/4HANA más innovadora.\nCubre los procesos más específicos del sector como desarrollo de nuevos productos, producción, calidad, distribución, gestión de stocks y fuerza comercial.\nEn este webinar vamos a darte una visión práctica de sus posibilidades, te contaremos algunos casos de implementación y te damos un par de consejos sobre lo que realmente importa cuando nos metemos en este tipo de proyectos. \n
DTSTART:20250210T160000
DTEND:20250210T170000
DTSTAMP:20260419T114301Z
LOCATION:Online
PRIORITY:5
SEQUENCE:0
SUMMARY;LANGUAGE=es-es:Tecnowebinars.com - :: S/4HANA Public Cloud para Alimentación
TRANSP:OPAQUE
UID:c6e12d143bc7377bcac1258883940cf2 Tecnowebinars.com
X-MICROSOFT-CDO-BUSYSTATUS:BUSY
X-MICROSOFT-CDO-IMPORTANCE:1
X-MICROSOFT-DISALLOW-COUNTER:FALSE
X-MS-OLK-ALLOWEXTERNCHECK:TRUE
X-MS-OLK-AUTOFILLLOCATION:FALSE
X-MS-OLK-CONFTYPE:0
BEGIN:VALARM
TRIGGER:-PT1440M
ACTION:DISPLAY
DESCRIPTION:Reminder
END:VALARM
END:VEVENT
END:VCALENDAR
