BEGIN:VCALENDAR
PRODID:-//Microsoft Corporation//Outlook 12.0 MIMEDIR//EN
VERSION:2.0
METHOD:PUBLISH
X-MS-OLK-FORCEINSPECTOROPEN:TRUE
BEGIN:VEVENT
CLASS:PUBLIC
CREATED:20260419T171200Z
DESCRIPTION:Regístrate ahora para descubrir cómo la integración de tecnologías como el BPM (Business Process Management) y la inteligencia artificial (IA) puede transformar la eficiencia operativa de tu organización.\nEn este webinar, nuestros expertos compartirán casos de uso reales y ejemplos prácticos de cómo estas herramientas pueden resolver las problemáticas más comunes que enfrentan las empresas en su día a día. Desde la automatización de procesos hasta la toma de decisiones inteligentes, aprenderás cómo estas soluciones tecnológicas pueden ayudarte a mejorar la agilidad, la productividad y la satisfacción del cliente.\n¿Qué aprenderás?\n· Cómo el BPM y la IA pueden trabajar juntos para optimizar procesos de negocio.\n· Aplicaciones reales en diferentes industrias.\n· Beneficios clave de la automatización inteligente para tu empresa. \n
DTSTART:20241003T160000
DTEND:20241003T170000
DTSTAMP:20260419T171200Z
LOCATION:Online
PRIORITY:5
SEQUENCE:0
SUMMARY;LANGUAGE=es-es:Tecnowebinars.com - :: Optimización de procesos con BPM e Inteligencia Artificial
TRANSP:OPAQUE
UID:571571c9b3189be5f5d89f6309d16329 Tecnowebinars.com
X-MICROSOFT-CDO-BUSYSTATUS:BUSY
X-MICROSOFT-CDO-IMPORTANCE:1
X-MICROSOFT-DISALLOW-COUNTER:FALSE
X-MS-OLK-ALLOWEXTERNCHECK:TRUE
X-MS-OLK-AUTOFILLLOCATION:FALSE
X-MS-OLK-CONFTYPE:0
BEGIN:VALARM
TRIGGER:-PT1440M
ACTION:DISPLAY
DESCRIPTION:Reminder
END:VALARM
END:VEVENT
END:VCALENDAR
