BEGIN:VCALENDAR
PRODID:-//Microsoft Corporation//Outlook 12.0 MIMEDIR//EN
VERSION:2.0
METHOD:PUBLISH
X-MS-OLK-FORCEINSPECTOROPEN:TRUE
BEGIN:VEVENT
CLASS:PUBLIC
CREATED:20260419T142938Z
DESCRIPTION: El avance de la tecnología nos permite generar experiencias personalizadas y rápidas. Estas interacciones son clave para conquistar a los clientes, lo que hace que los Einstein Bots de Salesforce se conviertan en un aliado estratégico para las empresas.\n \nEstos asistentes virtuales inteligentes no solo optimizan la atención al cliente, sino que también impulsan las ventas al interactuar proactivamente con los usuarios, responder consultas frecuentes y generar prospectos de manera automática.\nVeremos:\nCómo funcionan los Einstein Bots y su integración con Salesforce.\nCasos prácticos de éxito, donde las empresas han aumentado sus conversiones con la ayuda de la inteligencia artificial. Buenas prácticas para diseñar y desplegar un bot eficaz que potencie la experiencia del cliente.\n
DTSTART:20241220T010000
DTEND:20241220T020000
DTSTAMP:20260419T142938Z
LOCATION:Online
PRIORITY:5
SEQUENCE:0
SUMMARY;LANGUAGE=es-es:Tecnowebinars.com - :: Einstein Bots de Salesforce para potenciar la experiencia del cliente
TRANSP:OPAQUE
UID:5ddafc2424b9739cc796a43afb3388fe Tecnowebinars.com
X-MICROSOFT-CDO-BUSYSTATUS:BUSY
X-MICROSOFT-CDO-IMPORTANCE:1
X-MICROSOFT-DISALLOW-COUNTER:FALSE
X-MS-OLK-ALLOWEXTERNCHECK:TRUE
X-MS-OLK-AUTOFILLLOCATION:FALSE
X-MS-OLK-CONFTYPE:0
BEGIN:VALARM
TRIGGER:-PT1440M
ACTION:DISPLAY
DESCRIPTION:Reminder
END:VALARM
END:VEVENT
END:VCALENDAR
