BEGIN:VCALENDAR
PRODID:-//Microsoft Corporation//Outlook 12.0 MIMEDIR//EN
VERSION:2.0
METHOD:PUBLISH
X-MS-OLK-FORCEINSPECTOROPEN:TRUE
BEGIN:VEVENT
CLASS:PUBLIC
CREATED:20260419T152910Z
DESCRIPTION:Service accounts are everywhere, but their overprivileged, multi-use, and often unmanaged nature makes them a security liability. Managed identities (and other “passwordless” NHIs) are considered a safer alternative, yet they come with their own set of vulnerabilities attackers can exploit.\nJoin this 30-minute webinar to learn from NHI security researchers:\n• The types and common pitfalls of service accounts.\n• How to convert service accounts into managed identities in Azure.\n• The downsides of managed identities - and a live demo of how attackers exploit them.\n• Best practices to avoid common misconfigurations.\n*Bonus* Get a practical tool to map all managed identities in your Azure environment (IYKYK).\n
DTSTART:20250206T220000
DTEND:20250206T230000
DTSTAMP:20260419T152910Z
LOCATION:Online
PRIORITY:5
SEQUENCE:0
SUMMARY;LANGUAGE=es-es:Tecnowebinars.com - :: Service Accounts vs. Managed Identities: Real Exploits & Best Practices
TRANSP:OPAQUE
UID:9de82400ef23ddede5ff0d2cd3074c9e Tecnowebinars.com
X-MICROSOFT-CDO-BUSYSTATUS:BUSY
X-MICROSOFT-CDO-IMPORTANCE:1
X-MICROSOFT-DISALLOW-COUNTER:FALSE
X-MS-OLK-ALLOWEXTERNCHECK:TRUE
X-MS-OLK-AUTOFILLLOCATION:FALSE
X-MS-OLK-CONFTYPE:0
BEGIN:VALARM
TRIGGER:-PT1440M
ACTION:DISPLAY
DESCRIPTION:Reminder
END:VALARM
END:VEVENT
END:VCALENDAR
