BEGIN:VCALENDAR
PRODID:-//Microsoft Corporation//Outlook 12.0 MIMEDIR//EN
VERSION:2.0
METHOD:PUBLISH
X-MS-OLK-FORCEINSPECTOROPEN:TRUE
BEGIN:VEVENT
CLASS:PUBLIC
CREATED:20260422T205741Z
DESCRIPTION:Are you an independent consultant seeking new clients? Do you ever feel frustrated or overwhelmed by the lead generation process? Join longtime communications consultant and founder of CommsConsultants.com Ashley Dennison as she shares her proven strategies and tips for finding and winning new business. No matter your specialty, level or tenure as a consultant, you'll benefit from the actionable advice Ashley has to offer.\nIn this session, you'll learn:\n- How to create and utilize a lead magnet\n- How to stay "top of mind" for prospective clients\n- How to create referral partnerships\n- How to leverage the power of your network\n- How to approach cold outreach\n- Plus more creative ideas for filling your pipeline in 2025\n
DTSTART:20250205T170000
DTEND:20250205T180000
DTSTAMP:20260422T205741Z
LOCATION:Online
PRIORITY:5
SEQUENCE:0
SUMMARY;LANGUAGE=es-es:Tecnowebinars.com - :: How To Bring in New Consulting Clients
TRANSP:OPAQUE
UID:02764afd0a96ae4487c5a418185eb9d6 Tecnowebinars.com
X-MICROSOFT-CDO-BUSYSTATUS:BUSY
X-MICROSOFT-CDO-IMPORTANCE:1
X-MICROSOFT-DISALLOW-COUNTER:FALSE
X-MS-OLK-ALLOWEXTERNCHECK:TRUE
X-MS-OLK-AUTOFILLLOCATION:FALSE
X-MS-OLK-CONFTYPE:0
BEGIN:VALARM
TRIGGER:-PT1440M
ACTION:DISPLAY
DESCRIPTION:Reminder
END:VALARM
END:VEVENT
END:VCALENDAR
