BEGIN:VCALENDAR
PRODID:-//Microsoft Corporation//Outlook 12.0 MIMEDIR//EN
VERSION:2.0
METHOD:PUBLISH
X-MS-OLK-FORCEINSPECTOROPEN:TRUE
BEGIN:VEVENT
CLASS:PUBLIC
CREATED:20260419T142816Z
DESCRIPTION: Descubre cómo Salesforce Sales Cloud transforma la gestión de ventas. Este webinar te mostrará cómo automatizar procesos de ventas, administrar leads y pronosticar con precisión el cierre de oportunidades. Aprenderás a empoderar a tu equipo de ventas con datos en tiempo real y a mejorar la productividad mediante la automatización de tareas diarias.\n
DTSTART:20241206T010000
DTEND:20241206T020000
DTSTAMP:20260419T142816Z
LOCATION:Online
PRIORITY:5
SEQUENCE:0
SUMMARY;LANGUAGE=es-es:Tecnowebinars.com - :: Salesforce Sales Cloud
TRANSP:OPAQUE
UID:dccf94a5d66ee6da2a8263e92e572bfa Tecnowebinars.com
X-MICROSOFT-CDO-BUSYSTATUS:BUSY
X-MICROSOFT-CDO-IMPORTANCE:1
X-MICROSOFT-DISALLOW-COUNTER:FALSE
X-MS-OLK-ALLOWEXTERNCHECK:TRUE
X-MS-OLK-AUTOFILLLOCATION:FALSE
X-MS-OLK-CONFTYPE:0
BEGIN:VALARM
TRIGGER:-PT1440M
ACTION:DISPLAY
DESCRIPTION:Reminder
END:VALARM
END:VEVENT
END:VCALENDAR
