BEGIN:VCALENDAR
PRODID:-//Microsoft Corporation//Outlook 12.0 MIMEDIR//EN
VERSION:2.0
METHOD:PUBLISH
X-MS-OLK-FORCEINSPECTOROPEN:TRUE
BEGIN:VEVENT
CLASS:PUBLIC
CREATED:20260419T143822Z
DESCRIPTION: La ley antifraude en España tiene un impacto significativo en los sistemas de Terminal de Punto de Venta (TPV), especialmente aquellos que emiten facturas y facturas simplificadas (tickets). Esta normativa requiere que los TPV cumplan con ciertos estándares para garantizar la integridad, trazabilidad y seguridad de los datos, con el fin de prevenir prácticas de fraude fiscal, como la manipulación o eliminación de transacciones.\nPara los TPV la ley exige que el software de facturación y de emisión de tickets sea certificado. Esto significa que debe estar diseñado de forma que cualquier operación de venta quede registrada de manera inalterable. Una vez emitida una factura o ticket, el sistema debe asegurar que no se pueda modificar o eliminar sin dejar una huella digital. En otras palabras, los TPV deben garantizar que todas las operaciones queden reflejadas con transparencia y puedan ser auditadas en cualquier momento por las autoridades fiscales. \nAsimismo, los TPV que operan bajo esta normativa deben conservar un registro seguro y accesible de todas las facturas y tickets emitidos, lo que facilita el control fiscal y el acceso a la información en caso de inspección. En el caso de actualizaciones o modificaciones del software, es importante que este siga cumpliendo con los estándares de la ley antifraude, por lo que se recomienda realizar auditorías y mantener la certificación del sistema. \nEsta ley ha llevado a que muchos negocios actualicen o sustituyan sus sistemas TPV para adaptarse a los requisitos legales, buscando soluciones que, además de cumplir con la normativa, mejoren su gestión fiscal y la seguridad de sus datos.\n \nEn este webinar el mayor experto a nivel internacional que existe en auditoría y certificación de software de TPV, Luis Vilanova Blanco, desde www.leyantifraude.com nos explicara como afecta la orden ministerial y la ley a estos software.\n
DTSTART:20241125T160000
DTEND:20241125T170000
DTSTAMP:20260419T143822Z
LOCATION:Online
PRIORITY:5
SEQUENCE:0
SUMMARY;LANGUAGE=es-es:Tecnowebinars.com - :: Ley antifraude. Los TPV en el punto de mira.
TRANSP:OPAQUE
UID:9e6c12d3a270841f28626d2847161641 Tecnowebinars.com
X-MICROSOFT-CDO-BUSYSTATUS:BUSY
X-MICROSOFT-CDO-IMPORTANCE:1
X-MICROSOFT-DISALLOW-COUNTER:FALSE
X-MS-OLK-ALLOWEXTERNCHECK:TRUE
X-MS-OLK-AUTOFILLLOCATION:FALSE
X-MS-OLK-CONFTYPE:0
BEGIN:VALARM
TRIGGER:-PT1440M
ACTION:DISPLAY
DESCRIPTION:Reminder
END:VALARM
END:VEVENT
END:VCALENDAR
