BEGIN:VCALENDAR
PRODID:-//Microsoft Corporation//Outlook 12.0 MIMEDIR//EN
VERSION:2.0
METHOD:PUBLISH
X-MS-OLK-FORCEINSPECTOROPEN:TRUE
BEGIN:VEVENT
CLASS:PUBLIC
CREATED:20260419T155207Z
DESCRIPTION:En un entorno industrial cada vez más competitivo y digitalizado contar con herramientas tecnológicas que impulsen la eficiencia y la innovación es fundamental.\n \nTe invitamos a participar en nuestro próximo webinar exclusivo enfocado en la industria de procesos donde exploraremos cómo SAP S/4HANA puede convertirse en un aliado estratégico para tu empresa.\n \nSAP S/4HANA ofrece un enfoque integral que abarca desde la optimización de operaciones hasta la mejora de la toma de decisiones.\n \nDurante esta sesión, te mostraremos los siguientes temas:\n \n- Desarrollo de nuevos productos: agilidad en la creación y lanzamiento de nuevos productos al mercado con entornos colaborativos.\n- Gestión avanzada de lotes en la cadena de producción: agiliza la herencia de atributos de los lotes para mejorar la eficiencia en producción.\n- Gestión de almacenes caóticos y expediciones: optimiza la gestión de almacenes complejos y caóticos, reduciendo tiempos con un enfoque ágil en las expediciones.\n- Evaluación de proveedores: garantiza la fiabilidad de tus proveedores mediante evaluaciones basadas en métricas objetivas.\n- Cuadros de mandos logísticos: aprovecha la analítica avanzada para obtener visibilidad completa y en tiempo real de tus operaciones logísticas, facilitando la toma de decisiones.\n
DTSTART:20241119T160000
DTEND:20241119T173000
DTSTAMP:20260419T155207Z
LOCATION:Online
PRIORITY:5
SEQUENCE:0
SUMMARY;LANGUAGE=es-es:Tecnowebinars.com - :: Descubre cómo SAP S/4HANA Transforma la Industria de Procesos
TRANSP:OPAQUE
UID:8fda979152554d4f1b3a05169d9980f7 Tecnowebinars.com
X-MICROSOFT-CDO-BUSYSTATUS:BUSY
X-MICROSOFT-CDO-IMPORTANCE:1
X-MICROSOFT-DISALLOW-COUNTER:FALSE
X-MS-OLK-ALLOWEXTERNCHECK:TRUE
X-MS-OLK-AUTOFILLLOCATION:FALSE
X-MS-OLK-CONFTYPE:0
BEGIN:VALARM
TRIGGER:-PT1440M
ACTION:DISPLAY
DESCRIPTION:Reminder
END:VALARM
END:VEVENT
END:VCALENDAR
