BEGIN:VCALENDAR
PRODID:-//Microsoft Corporation//Outlook 12.0 MIMEDIR//EN
VERSION:2.0
METHOD:PUBLISH
X-MS-OLK-FORCEINSPECTOROPEN:TRUE
BEGIN:VEVENT
CLASS:PUBLIC
CREATED:20260419T155146Z
DESCRIPTION:SAP S/4HANA Cloud Public Edition es un ERP en la nube listo para operar que ofrece las últimas mejores prácticas en procesos y tecnología con innovación continua.\n \nDurante la sesión se contará como este ERP\n \nAgrega la última tecnología, como IA incorporada, machine learning, automatización robótica de procesos y analíticas, para que su negocio pueda operar mejor. \n \nViene con procesos de negocio que incorporan las mejores prácticas estándar de la industria.\n \nManeja operaciones técnicas, incluyendo copias de seguridad y recuperación ante desastres, mantenimiento del sistema, protección de datos, y los mejores plazos de operatividad para brindarle tranquilidad.\n \nDispone de API listas para usar con herramientas y documentación de soporte para que usted pueda integrarse fácilmente con sus socios o construir sobre esa base. \n \nDispone de actualizaciones totalmente gestionadas por SAP, así que usted no necesita muchos recursos de TI ni enfrenta disrupciones en el negocio. \n \nSe inicia con un proceso de implementación guiado, una configuración técnica rápida y una interfaz intuitiva basada en roles y mostraremos el look and feel de uso diario de los usuarios de este sistema. \n
DTSTART:20241114T160000
DTEND:20241114T170000
DTSTAMP:20260419T155146Z
LOCATION:Online
PRIORITY:5
SEQUENCE:0
SUMMARY;LANGUAGE=es-es:Tecnowebinars.com - :: ¿Cómo mejora SAP S/4 HANA Public tu Compañía?
TRANSP:OPAQUE
UID:b5708933cf9ab5cf0fc9d3fd6d5fe034 Tecnowebinars.com
X-MICROSOFT-CDO-BUSYSTATUS:BUSY
X-MICROSOFT-CDO-IMPORTANCE:1
X-MICROSOFT-DISALLOW-COUNTER:FALSE
X-MS-OLK-ALLOWEXTERNCHECK:TRUE
X-MS-OLK-AUTOFILLLOCATION:FALSE
X-MS-OLK-CONFTYPE:0
BEGIN:VALARM
TRIGGER:-PT1440M
ACTION:DISPLAY
DESCRIPTION:Reminder
END:VALARM
END:VEVENT
END:VCALENDAR
