BEGIN:VCALENDAR
PRODID:-//Microsoft Corporation//Outlook 12.0 MIMEDIR//EN
VERSION:2.0
METHOD:PUBLISH
X-MS-OLK-FORCEINSPECTOROPEN:TRUE
BEGIN:VEVENT
CLASS:PUBLIC
CREATED:20260419T155221Z
DESCRIPTION:En este webinar Luis Vilanova, auditor jefe de www.leyantifraude.com, en colaboración con mas de 140 empresas en proceso de certificación, liderando dicha ley a nivel nacional e internacional, nos explicara la reciente publicación de la Orden HAC/1177/2024.\n \nLa orden detalla las especificaciones técnicas, funcionales y de contenido del reglamento en el que se establecía que los sistemas informáticos deberán estar adaptados el 1 de julio de 2025.\n \nLuis Vilanova nos explicará las cuestiones clave para cumplir con la ley, en vigor parte de ella desde octubre de 2021 y ahora con la definición final del reglamento, con el proceso de certificación, su norma de auditoría que engloba todo el alcance de dicha ley y otras cuestiones que sus clientes ya disfrutan.La cuenta atrás ha comenzado y las altísimas sanciones a los fabricantes de software y obligados tributarios son cuestión de meses.\n
DTSTART:20241031T110000
DTEND:20241031T120000
DTSTAMP:20260419T155221Z
LOCATION:Online
PRIORITY:5
SEQUENCE:0
SUMMARY;LANGUAGE=es-es:Tecnowebinars.com - :: Entra en vigor la Ley Antifraude y VERI*FACTU
TRANSP:OPAQUE
UID:e3df582e073b517b3e34620f99287289 Tecnowebinars.com
X-MICROSOFT-CDO-BUSYSTATUS:BUSY
X-MICROSOFT-CDO-IMPORTANCE:1
X-MICROSOFT-DISALLOW-COUNTER:FALSE
X-MS-OLK-ALLOWEXTERNCHECK:TRUE
X-MS-OLK-AUTOFILLLOCATION:FALSE
X-MS-OLK-CONFTYPE:0
BEGIN:VALARM
TRIGGER:-PT1440M
ACTION:DISPLAY
DESCRIPTION:Reminder
END:VALARM
END:VEVENT
END:VCALENDAR
