BEGIN:VCALENDAR
PRODID:-//Microsoft Corporation//Outlook 12.0 MIMEDIR//EN
VERSION:2.0
METHOD:PUBLISH
X-MS-OLK-FORCEINSPECTOROPEN:TRUE
BEGIN:VEVENT
CLASS:PUBLIC
CREATED:20260424T201925Z
DESCRIPTION:A scalable data protection solution doesn't have to feel like scaling a mountain. Veritas and Wasabi are introducing a new way to provision Backup Exec with Hot Cloud Storage so they’ll always have as much as they need—never more, never less.\nBackup Exec just got a huge update chock full of new features – all at no additional cost. Tune in to our joint webinar with Jason Von Eberstein from Veritas to get the inside scoop on all that Backup Exec and Wasabi have to offer...and what makes us #BetterTogether.\nWhat you will learn:\n- Why you shouldn’t need to purchase additional products to backup your M365 data\n- Wasabi & Veritas helps you build a full backup solution for all your data\n- Lower your TCO with new licensing models that fit your needs\nSpeakers:\n- Jason Von Eberstein, Product Manager, Veritas\n- Rob Callaghan, Senior Product Marketing Manager, Wasabi\n
DTSTART:20241202T170000
DTEND:20241202T180000
DTSTAMP:20260424T201925Z
LOCATION:Online
PRIORITY:5
SEQUENCE:0
SUMMARY;LANGUAGE=es-es:Tecnowebinars.com - :: Unified Secure Data Protection for M365 and Beyond: Wasabi + Veritas Backup Exec
TRANSP:OPAQUE
UID:15e5f7a503656d642a39ce00b37d7dd1 Tecnowebinars.com
X-MICROSOFT-CDO-BUSYSTATUS:BUSY
X-MICROSOFT-CDO-IMPORTANCE:1
X-MICROSOFT-DISALLOW-COUNTER:FALSE
X-MS-OLK-ALLOWEXTERNCHECK:TRUE
X-MS-OLK-AUTOFILLLOCATION:FALSE
X-MS-OLK-CONFTYPE:0
BEGIN:VALARM
TRIGGER:-PT1440M
ACTION:DISPLAY
DESCRIPTION:Reminder
END:VALARM
END:VEVENT
END:VCALENDAR
