BEGIN:VCALENDAR
PRODID:-//Microsoft Corporation//Outlook 12.0 MIMEDIR//EN
VERSION:2.0
METHOD:PUBLISH
X-MS-OLK-FORCEINSPECTOROPEN:TRUE
BEGIN:VEVENT
CLASS:PUBLIC
CREATED:20260419T142800Z
DESCRIPTION:Una inmersión profunda en el funcionamiento de las IA predictivas sus ventajas, limitaciones y usos potenciales en la industria. Veremos el futuro de estas tecnologías y como pueden mejorar la industria y las capacidades humanas.\n \n
DTSTART:20241127T180000
DTEND:20241127T190000
DTSTAMP:20260419T142800Z
LOCATION:Online
PRIORITY:5
SEQUENCE:0
SUMMARY;LANGUAGE=es-es:Tecnowebinars.com - :: Modelos predictivos industriales basados en inteligencia artificial
TRANSP:OPAQUE
UID:b54b7c18f7da47a152a05c504297682a Tecnowebinars.com
X-MICROSOFT-CDO-BUSYSTATUS:BUSY
X-MICROSOFT-CDO-IMPORTANCE:1
X-MICROSOFT-DISALLOW-COUNTER:FALSE
X-MS-OLK-ALLOWEXTERNCHECK:TRUE
X-MS-OLK-AUTOFILLLOCATION:FALSE
X-MS-OLK-CONFTYPE:0
BEGIN:VALARM
TRIGGER:-PT1440M
ACTION:DISPLAY
DESCRIPTION:Reminder
END:VALARM
END:VEVENT
END:VCALENDAR
